BEGIN:VCALENDAR
VERSION:2.0
PRODID:-//Craft and Found Exchange - ECPv6.15.20//NONSGML v1.0//EN
CALSCALE:GREGORIAN
METHOD:PUBLISH
X-WR-CALNAME:Craft and Found Exchange
X-ORIGINAL-URL:https://craftandfound.com
X-WR-CALDESC:Events for Craft and Found Exchange
REFRESH-INTERVAL;VALUE=DURATION:PT1H
X-Robots-Tag:noindex
X-PUBLISHED-TTL:PT1H
BEGIN:VTIMEZONE
TZID:America/New_York
BEGIN:DAYLIGHT
TZOFFSETFROM:-0500
TZOFFSETTO:-0400
TZNAME:EDT
DTSTART:20240310T070000
END:DAYLIGHT
BEGIN:STANDARD
TZOFFSETFROM:-0400
TZOFFSETTO:-0500
TZNAME:EST
DTSTART:20241103T060000
END:STANDARD
BEGIN:DAYLIGHT
TZOFFSETFROM:-0500
TZOFFSETTO:-0400
TZNAME:EDT
DTSTART:20250309T070000
END:DAYLIGHT
BEGIN:STANDARD
TZOFFSETFROM:-0400
TZOFFSETTO:-0500
TZNAME:EST
DTSTART:20251102T060000
END:STANDARD
BEGIN:DAYLIGHT
TZOFFSETFROM:-0500
TZOFFSETTO:-0400
TZNAME:EDT
DTSTART:20260308T070000
END:DAYLIGHT
BEGIN:STANDARD
TZOFFSETFROM:-0400
TZOFFSETTO:-0500
TZNAME:EST
DTSTART:20261101T060000
END:STANDARD
END:VTIMEZONE
BEGIN:VEVENT
DTSTART;TZID=America/New_York:20250105T160000
DTEND;TZID=America/New_York:20250105T180000
DTSTAMP:20260424T111631
CREATED:20241129T191931Z
LAST-MODIFIED:20241228T212229Z
UID:142-1736092800-1736100000@craftandfound.com
SUMMARY:Awards for Adulting
DESCRIPTION:Free Event for Adults\, Pre-Registration Requested – (class limited to 8 participants) \nInstead of a ribbon cutting\, join me for a ribbon creating! \nWhen was the last time you got an award ribbon? 6th Grade Science Fair? Little League? Well\, Adults\, it’s about time we got some recognition for things like: \n\n“Didn’t Reply All”\n“Survived Bedtime”\n“Bossed Up and Cried About It – Contains Multitudes”\n“Gave Up But Kept Going”\n“Tried My Best”\n“Didn’t Please Everyone”\n\nWe will have materials and inspiration to make your very own Adulting Awards. Light snacks and drinks provided. \nThis class is intended for adults. \nPlease enable JavaScript in your browser to complete this form.Please enable JavaScript in your browser to complete this form.Name *FirstLastEmail *How did you hear about this event?Craft and Found WebsiteInstagramSignage at the storeWord of mouthThe ShopperOther		\n			Name comments did\n			\n		\n		Any comments or questions?Submit
URL:https://craftandfound.com/calendar/awards-for-adulting/
LOCATION:Craft and Found Exchange\, Rum Brook Place * 249 Rt 10 N\, Grantham\, NH\, 03753\, United States
CATEGORIES:Free event
END:VEVENT
END:VCALENDAR