BEGIN:VCALENDAR
VERSION:2.0
PRODID:-//Craft and Found Exchange - ECPv6.15.20//NONSGML v1.0//EN
CALSCALE:GREGORIAN
METHOD:PUBLISH
X-ORIGINAL-URL:https://craftandfound.com
X-WR-CALDESC:Events for Craft and Found Exchange
REFRESH-INTERVAL;VALUE=DURATION:PT1H
X-Robots-Tag:noindex
X-PUBLISHED-TTL:PT1H
BEGIN:VTIMEZONE
TZID:America/New_York
BEGIN:DAYLIGHT
TZOFFSETFROM:-0500
TZOFFSETTO:-0400
TZNAME:EDT
DTSTART:20250309T070000
END:DAYLIGHT
BEGIN:STANDARD
TZOFFSETFROM:-0400
TZOFFSETTO:-0500
TZNAME:EST
DTSTART:20251102T060000
END:STANDARD
BEGIN:DAYLIGHT
TZOFFSETFROM:-0500
TZOFFSETTO:-0400
TZNAME:EDT
DTSTART:20260308T070000
END:DAYLIGHT
BEGIN:STANDARD
TZOFFSETFROM:-0400
TZOFFSETTO:-0500
TZNAME:EST
DTSTART:20261101T060000
END:STANDARD
BEGIN:DAYLIGHT
TZOFFSETFROM:-0500
TZOFFSETTO:-0400
TZNAME:EDT
DTSTART:20270314T070000
END:DAYLIGHT
BEGIN:STANDARD
TZOFFSETFROM:-0400
TZOFFSETTO:-0500
TZNAME:EST
DTSTART:20271107T060000
END:STANDARD
END:VTIMEZONE
BEGIN:VEVENT
DTSTART;TZID=America/New_York:20260227T110000
DTEND;TZID=America/New_York:20260227T130000
DTSTAMP:20260423T172141
CREATED:20260209T162536Z
LAST-MODIFIED:20260209T162536Z
UID:1154-1772190000-1772197200@craftandfound.com
SUMMARY:Crafty Kids - Foam Block Printing
DESCRIPTION:Crafty Kids Vacation Drop-In Crafts are back! \nToday we will be doing a simple\, all-ages introduction to block printing. Using sheets of craft foam\, you will create your own block print that you can use to print onto paper\, cards\, journals\, and more. \nThis is a drop-in event held from 11am – 1pm. We do ask that a trusted adult stay and help as this is not a formal class with full instruction. All materials will be provided. \nRecommended for ages 4+.
URL:https://craftandfound.com/calendar/crafty-kids-foam-block-printing/
LOCATION:Craft and Found Exchange\, Rum Brook Place * 249 Rt 10 N\, Grantham\, NH\, 03753\, United States
CATEGORIES:Drop-in,Free event
END:VEVENT
END:VCALENDAR