BEGIN:VCALENDAR
VERSION:2.0
PRODID:-//Craft and Found Exchange - ECPv6.15.20//NONSGML v1.0//EN
CALSCALE:GREGORIAN
METHOD:PUBLISH
X-ORIGINAL-URL:https://craftandfound.com
X-WR-CALDESC:Events for Craft and Found Exchange
REFRESH-INTERVAL;VALUE=DURATION:PT1H
X-Robots-Tag:noindex
X-PUBLISHED-TTL:PT1H
BEGIN:VTIMEZONE
TZID:America/New_York
BEGIN:DAYLIGHT
TZOFFSETFROM:-0500
TZOFFSETTO:-0400
TZNAME:EDT
DTSTART:20240310T070000
END:DAYLIGHT
BEGIN:STANDARD
TZOFFSETFROM:-0400
TZOFFSETTO:-0500
TZNAME:EST
DTSTART:20241103T060000
END:STANDARD
BEGIN:DAYLIGHT
TZOFFSETFROM:-0500
TZOFFSETTO:-0400
TZNAME:EDT
DTSTART:20250309T070000
END:DAYLIGHT
BEGIN:STANDARD
TZOFFSETFROM:-0400
TZOFFSETTO:-0500
TZNAME:EST
DTSTART:20251102T060000
END:STANDARD
BEGIN:DAYLIGHT
TZOFFSETFROM:-0500
TZOFFSETTO:-0400
TZNAME:EDT
DTSTART:20260308T070000
END:DAYLIGHT
BEGIN:STANDARD
TZOFFSETFROM:-0400
TZOFFSETTO:-0500
TZNAME:EST
DTSTART:20261101T060000
END:STANDARD
END:VTIMEZONE
BEGIN:VEVENT
DTSTART;TZID=America/New_York:20250811T110000
DTEND;TZID=America/New_York:20250811T120000
DTSTAMP:20260423T172003
CREATED:20250531T202802Z
LAST-MODIFIED:20250531T202802Z
UID:705-1754910000-1754913600@craftandfound.com
SUMMARY:Monday Makers - Shrinky Dink Backpack Flair
DESCRIPTION:Join us for our weekly age-inclusive crafting hour\, Mondays at 11am all summer long! \nThis week we will be using Shrinky Dinks to create custom pins\, perfect for decorating back to school backpacks! \nNo registration required but a $5 donation is greatly appreciated.
URL:https://craftandfound.com/calendar/monday-makers-shrinky-dink-backpack-flair/
LOCATION:Craft and Found Exchange\, Rum Brook Place * 249 Rt 10 N\, Grantham\, NH\, 03753\, United States
CATEGORIES:Drop-in,Free event
ATTACH;FMTTYPE=image/jpeg:https://craftandfound.com/wp-content/uploads/2025/05/IMG_0606.jpeg
END:VEVENT
BEGIN:VEVENT
DTSTART;TZID=America/New_York:20250804T110000
DTEND;TZID=America/New_York:20250804T120000
DTSTAMP:20260423T172003
CREATED:20250531T202318Z
LAST-MODIFIED:20250531T202318Z
UID:701-1754305200-1754308800@craftandfound.com
SUMMARY:Monday Makers - Perler Bead Magnets
DESCRIPTION:Join us for our weekly age-inclusive crafting hour\, Mondays at 11am all summer long! \nThis week we will be crafting Perler Bead magnets. (Smaller hands can use Pony Beads if that feels safer and easier!) \nNo registration required but a $5 donation is greatly appreciated.
URL:https://craftandfound.com/calendar/monday-makers-perler-bead-magnets/
LOCATION:Craft and Found Exchange\, Rum Brook Place * 249 Rt 10 N\, Grantham\, NH\, 03753\, United States
CATEGORIES:Drop-in,Free event
ATTACH;FMTTYPE=image/jpeg:https://craftandfound.com/wp-content/uploads/2025/05/IMG_0605.jpeg
END:VEVENT
BEGIN:VEVENT
DTSTART;TZID=America/New_York:20250802T140000
DTEND;TZID=America/New_York:20250802T170000
DTSTAMP:20260423T172003
CREATED:20250721T170817Z
LAST-MODIFIED:20250721T170817Z
UID:782-1754143200-1754154000@craftandfound.com
SUMMARY:Crafternoon
DESCRIPTION:Free drop in event\n\n\n\nJoin us on the first Saturday of the month for Crafternoon… bring your WIP’s\, bring your craftastrophes\, bring your craftersblock\, bring your questions about what the heck a WIP is. We welcome it all. We’ll just be here… maybe crafting\, maybe just talking about Agatha All Along. \nStore will be open our regular hours for shopping. \n(Pro-tip: swing by Rum Brook Market and grab a rotisserie chicken afterwards and BOOM\, dinner.)
URL:https://craftandfound.com/calendar/crafternoon-4/
LOCATION:Craft and Found Exchange\, Rum Brook Place * 249 Rt 10 N\, Grantham\, NH\, 03753\, United States
CATEGORIES:Drop-in,Free event,Monthly event
END:VEVENT
BEGIN:VEVENT
DTSTART;TZID=America/New_York:20250728T110000
DTEND;TZID=America/New_York:20250728T120000
DTSTAMP:20260423T172003
CREATED:20250531T201942Z
LAST-MODIFIED:20250531T201942Z
UID:698-1753700400-1753704000@craftandfound.com
SUMMARY:Monday Makers - Comics and Characters
DESCRIPTION:Join us for our weekly age-inclusive crafting hour\, Mondays at 11am all summer long! \nThis week we will be creating our very own comic world… from character creation to story. \nNo registration required but a $5 donation is greatly appreciated.
URL:https://craftandfound.com/calendar/monday-makers-comics-and-characters/
LOCATION:Craft and Found Exchange\, Rum Brook Place * 249 Rt 10 N\, Grantham\, NH\, 03753\, United States
CATEGORIES:Drop-in,Free event
ATTACH;FMTTYPE=image/jpeg:https://craftandfound.com/wp-content/uploads/2025/05/IMG_0604.jpeg
END:VEVENT
BEGIN:VEVENT
DTSTART;TZID=America/New_York:20250721T110000
DTEND;TZID=America/New_York:20250721T120000
DTSTAMP:20260423T172003
CREATED:20250531T201743Z
LAST-MODIFIED:20250531T201743Z
UID:695-1753095600-1753099200@craftandfound.com
SUMMARY:Monday Makers - Hand Puppets
DESCRIPTION:Join us for our weekly age-inclusive crafting hour\, Mondays at 11am all summer long! \nThis week we will be crafting\, creating\, and decorating hand puppets. Perfect for a backyard performance! \nNo registration required but a $5 donation is greatly appreciated.
URL:https://craftandfound.com/calendar/monday-makers-hand-puppets/
LOCATION:Craft and Found Exchange\, Rum Brook Place * 249 Rt 10 N\, Grantham\, NH\, 03753\, United States
CATEGORIES:Drop-in,Free event
ATTACH;FMTTYPE=image/jpeg:https://craftandfound.com/wp-content/uploads/2025/05/IMG_0603.jpeg
END:VEVENT
BEGIN:VEVENT
DTSTART;TZID=America/New_York:20250714T110000
DTEND;TZID=America/New_York:20250714T120000
DTSTAMP:20260423T172003
CREATED:20250531T201424Z
LAST-MODIFIED:20250531T203545Z
UID:692-1752490800-1752494400@craftandfound.com
SUMMARY:Monday Makers - Clay Beads
DESCRIPTION:Join us for our weekly age-inclusive crafting hour\, Mondays at 11am all summer long! \nThis week we will be making beads out of colorful clay. Take your beads home and make a custom bracelet\, necklace\, keychain\, or more! \nNo registration required but a $5 donation is greatly appreciated.
URL:https://craftandfound.com/calendar/monday-makers-clay-beads/
LOCATION:Craft and Found Exchange\, Rum Brook Place * 249 Rt 10 N\, Grantham\, NH\, 03753\, United States
CATEGORIES:Drop-in,Free event
ATTACH;FMTTYPE=image/jpeg:https://craftandfound.com/wp-content/uploads/2025/05/IMG_5777-scaled.jpeg
END:VEVENT
BEGIN:VEVENT
DTSTART;TZID=America/New_York:20250707T110000
DTEND;TZID=America/New_York:20250707T120000
DTSTAMP:20260423T172003
CREATED:20250531T200949Z
LAST-MODIFIED:20250531T200949Z
UID:689-1751886000-1751889600@craftandfound.com
SUMMARY:Monday Makers - Friendship Bracelets
DESCRIPTION:Join us for our weekly age-inclusive crafting hour\, Mondays at 11am all summer long! \nThis week we will be starting (and maybe finishing?) friendship bracelets with options for a variety of skill levels and age abilities from pony beads to kumihimo disks. \nNo registration required but a $5 donation is greatly appreciated.
URL:https://craftandfound.com/calendar/monday-makers-friendship-bracelets/
LOCATION:Craft and Found Exchange\, Rum Brook Place * 249 Rt 10 N\, Grantham\, NH\, 03753\, United States
CATEGORIES:Drop-in,Free event
ATTACH;FMTTYPE=image/jpeg:https://craftandfound.com/wp-content/uploads/2025/05/IMG_5776-scaled.jpeg
END:VEVENT
BEGIN:VEVENT
DTSTART;TZID=America/New_York:20250705T140000
DTEND;TZID=America/New_York:20250705T170000
DTSTAMP:20260423T172003
CREATED:20250509T094036Z
LAST-MODIFIED:20250509T094036Z
UID:627-1751724000-1751734800@craftandfound.com
SUMMARY:Crafternoon
DESCRIPTION:Free drop in event\n\n\n\nJoin us on the first Saturday of the month for Crafternoon… bring your WIP’s\, bring your craftastrophes\, bring your craftersblock\, bring your questions about what the heck a WIP is. We welcome it all. We’ll just be here… maybe crafting\, maybe just talking about Agatha All Along. \nStore will be open our regular hours for shopping. \n(Pro-tip: swing by Rum Brook Market and grab a rotisserie chicken afterwards and BOOM\, dinner.)
URL:https://craftandfound.com/calendar/crafternoon-3/
LOCATION:Craft and Found Exchange\, Rum Brook Place * 249 Rt 10 N\, Grantham\, NH\, 03753\, United States
CATEGORIES:Drop-in,Free event,Monthly event
END:VEVENT
BEGIN:VEVENT
DTSTART;TZID=America/New_York:20250630T110000
DTEND;TZID=America/New_York:20250630T120000
DTSTAMP:20260423T172003
CREATED:20250531T195325Z
LAST-MODIFIED:20250531T195325Z
UID:686-1751281200-1751284800@craftandfound.com
SUMMARY:Monday Makers - Placemats and Potholders
DESCRIPTION:Join us for our weekly age-inclusive crafting hour\, Mondays at 11am all summer long! \nThis week we will have options to color a placemat/coaster or weave a potholder on a small loom. \nNo registration required but a $5 donation is greatly appreciated.
URL:https://craftandfound.com/calendar/monday-makers-placemats-and-potholders/
LOCATION:Craft and Found Exchange\, Rum Brook Place * 249 Rt 10 N\, Grantham\, NH\, 03753\, United States
CATEGORIES:Drop-in,Free event
ATTACH;FMTTYPE=image/jpeg:https://craftandfound.com/wp-content/uploads/2025/03/IMG_5520-scaled.jpeg
END:VEVENT
BEGIN:VEVENT
DTSTART;TZID=America/New_York:20250623T110000
DTEND;TZID=America/New_York:20250623T120000
DTSTAMP:20260423T172003
CREATED:20250531T194229Z
LAST-MODIFIED:20250531T194229Z
UID:679-1750676400-1750680000@craftandfound.com
SUMMARY:Monday Makers - Origami Jumping Frogs
DESCRIPTION:Join us for our weekly age-inclusive crafting hour\, Mondays at 11am all summer long! \nThis week we will be folding origami jumping frogs! Ribbit! Ribbit! \nNo registration required but a $5 donation is greatly appreciated.
URL:https://craftandfound.com/calendar/monday-makers-origami-jumping-frogs/
LOCATION:Craft and Found Exchange\, Rum Brook Place * 249 Rt 10 N\, Grantham\, NH\, 03753\, United States
CATEGORIES:Drop-in,Free event
ATTACH;FMTTYPE=image/jpeg:https://craftandfound.com/wp-content/uploads/2025/05/IMG_0602.jpeg
END:VEVENT
BEGIN:VEVENT
DTSTART;TZID=America/New_York:20250621T100000
DTEND;TZID=America/New_York:20250621T170000
DTSTAMP:20260423T172003
CREATED:20250509T094215Z
LAST-MODIFIED:20250509T094215Z
UID:629-1750500000-1750525200@craftandfound.com
SUMMARY:Craft and Found is 6 Months OId!
DESCRIPTION:Come celebrate our 6th month birthday! There will be crafts\, sales\, snacks\, and more!
URL:https://craftandfound.com/calendar/craft-and-found-is-6-months-oid/
LOCATION:Craft and Found Exchange\, Rum Brook Place * 249 Rt 10 N\, Grantham\, NH\, 03753\, United States
CATEGORIES:Drop-in,Free event
END:VEVENT
BEGIN:VEVENT
DTSTART;TZID=America/New_York:20250616T110000
DTEND;TZID=America/New_York:20250616T120000
DTSTAMP:20260423T172003
CREATED:20250531T193843Z
LAST-MODIFIED:20250531T195138Z
UID:676-1750071600-1750075200@craftandfound.com
SUMMARY:Monday Makers - Finger Knitting Creations
DESCRIPTION:Join us for our weekly age-inclusive crafting hour\, Mondays at 11am all summer long! \nThis week we will be learning basic finger knitting and turning our work into clever creations. \nNo registration required but a $5 donation is greatly appreciated.
URL:https://craftandfound.com/calendar/monday-makers-finger-knitting-creations/
LOCATION:Craft and Found Exchange\, Rum Brook Place * 249 Rt 10 N\, Grantham\, NH\, 03753\, United States
CATEGORIES:Drop-in,Free event
ATTACH;FMTTYPE=image/jpeg:https://craftandfound.com/wp-content/uploads/2025/05/IMG_5775-scaled.jpeg
END:VEVENT
BEGIN:VEVENT
DTSTART;TZID=America/New_York:20250607T140000
DTEND;TZID=America/New_York:20250607T170000
DTSTAMP:20260423T172003
CREATED:20250509T093953Z
LAST-MODIFIED:20250509T093953Z
UID:625-1749304800-1749315600@craftandfound.com
SUMMARY:Crafternoon
DESCRIPTION:Free drop in event\n\n\n\nJoin us on the first Saturday of the month for Crafternoon… bring your WIP’s\, bring your craftastrophes\, bring your craftersblock\, bring your questions about what the heck a WIP is. We welcome it all. We’ll just be here… maybe crafting\, maybe just talking about Agatha All Along. \nStore will be open our regular hours for shopping. \n(Pro-tip: swing by Rum Brook Market and grab a rotisserie chicken afterwards and BOOM\, dinner.)
URL:https://craftandfound.com/calendar/crafternoon-2/
LOCATION:Craft and Found Exchange\, Rum Brook Place * 249 Rt 10 N\, Grantham\, NH\, 03753\, United States
CATEGORIES:Drop-in,Free event,Monthly event
END:VEVENT
BEGIN:VEVENT
DTSTART;TZID=America/New_York:20250524T140000
DTEND;TZID=America/New_York:20250524T170000
DTSTAMP:20260423T172003
CREATED:20250509T093648Z
LAST-MODIFIED:20250509T093820Z
UID:620-1748095200-1748106000@craftandfound.com
SUMMARY:Monthly LEGO Swap
DESCRIPTION:Free drop in event\n\n\n\nEvery 4th Saturday of the month\, we host a free LEGO swap. Bring a set you no longer want\, trade it for a set you want. Any sets left at the end of the day will be held until next months swap. We will also have a “LEGO Bits Bin” to come find that one piece you need to complete your project. \nThe shop will be open for shopping for our normal Saturday hours during this event. \nCraft and Found does not manage or monitor the swaps or value of sets during this event. We are simply hosting the space. The intention of this event is to promote community\, sharing\, joy\, and to reduce waste. 
URL:https://craftandfound.com/calendar/monthly-lego-swap/
LOCATION:Craft and Found Exchange\, Rum Brook Place * 249 Rt 10 N\, Grantham\, NH\, 03753\, United States
CATEGORIES:Drop-in,Free event,Monthly event
END:VEVENT
BEGIN:VEVENT
DTSTART;TZID=America/New_York:20250503T140000
DTEND;TZID=America/New_York:20250503T170000
DTSTAMP:20260423T172003
CREATED:20250509T093913Z
LAST-MODIFIED:20250509T093913Z
UID:623-1746280800-1746291600@craftandfound.com
SUMMARY:Crafternoon
DESCRIPTION:Free drop in event\n\n\n\nJoin us on the first Saturday of the month for Crafternoon… bring your WIP’s\, bring your craftastrophes\, bring your craftersblock\, bring your questions about what the heck a WIP is. We welcome it all. We’ll just be here… maybe crafting\, maybe just talking about Agatha All Along. \nStore will be open our regular hours for shopping. \n(Pro-tip: swing by Rum Brook Market and grab a rotisserie chicken afterwards and BOOM\, dinner.)
URL:https://craftandfound.com/calendar/crafternoon/
LOCATION:Craft and Found Exchange\, Rum Brook Place * 249 Rt 10 N\, Grantham\, NH\, 03753\, United States
CATEGORIES:Drop-in,Free event,Monthly event
END:VEVENT
BEGIN:VEVENT
DTSTART;TZID=America/New_York:20250426T140000
DTEND;TZID=America/New_York:20250426T170000
DTSTAMP:20260423T172003
CREATED:20250120T190320Z
LAST-MODIFIED:20250120T190515Z
UID:401-1745676000-1745686800@craftandfound.com
SUMMARY:LEGO Swap
DESCRIPTION:Free drop in event \nEvery 4th Saturday of the month\, we host a free LEGO swap. Bring a set you no longer want\, trade it for a set you want. Any sets left at the end of the day will be held until next months swap. We will also have a “LEGO Bits Bin” to come find that one piece you need to complete your project. \nThe shop will be open for shopping for our normal Saturday hours during this event. \nCraft and Found does not manage or monitor the swaps or value of sets during this event. We are simply hosting the space. The intention of this event is to promote community\, sharing\, joy\, and to reduce waste. 
URL:https://craftandfound.com/calendar/lego-swap-4/
LOCATION:Craft and Found Exchange\, Rum Brook Place * 249 Rt 10 N\, Grantham\, NH\, 03753\, United States
CATEGORIES:Drop-in,Free event,Monthly event
END:VEVENT
BEGIN:VEVENT
DTSTART;TZID=America/New_York:20250425T140000
DTEND;TZID=America/New_York:20250425T170000
DTSTAMP:20260423T172003
CREATED:20250320T182326Z
LAST-MODIFIED:20250320T182326Z
UID:514-1745589600-1745600400@craftandfound.com
SUMMARY:Free Community Event - Trivets and Cork Boards
DESCRIPTION:Stop by the workshop every Friday afternoon from 2pm-5pm in April to make a trivet or cork board! \nThis is a free drop-in community event. Come by to connect with other community members\, get crafty\, and repurpose some materials! \nAll materials will be out in the workshop. Bring nothing but yourself!
URL:https://craftandfound.com/calendar/free-community-event-trivets-and-cork-boards-3/
LOCATION:Craft and Found Exchange\, Rum Brook Place * 249 Rt 10 N\, Grantham\, NH\, 03753\, United States
CATEGORIES:Drop-in,Free event
ATTACH;FMTTYPE=image/jpeg:https://craftandfound.com/wp-content/uploads/2025/03/IMG_5495-scaled.jpeg
END:VEVENT
BEGIN:VEVENT
DTSTART;TZID=America/New_York:20250418T140000
DTEND;TZID=America/New_York:20250418T170000
DTSTAMP:20260423T172003
CREATED:20250320T182243Z
LAST-MODIFIED:20250320T182243Z
UID:512-1744984800-1744995600@craftandfound.com
SUMMARY:Free Community Event - Trivets and Cork Boards
DESCRIPTION:Stop by the workshop every Friday afternoon from 2pm-5pm in April to make a trivet or cork board! \nThis is a free drop-in community event. Come by to connect with other community members\, get crafty\, and repurpose some materials! \nAll materials will be out in the workshop. Bring nothing but yourself!
URL:https://craftandfound.com/calendar/free-community-event-trivets-and-cork-boards-2/
LOCATION:Craft and Found Exchange\, Rum Brook Place * 249 Rt 10 N\, Grantham\, NH\, 03753\, United States
CATEGORIES:Drop-in,Free event
ATTACH;FMTTYPE=image/jpeg:https://craftandfound.com/wp-content/uploads/2025/03/IMG_5495-scaled.jpeg
END:VEVENT
BEGIN:VEVENT
DTSTART;TZID=America/New_York:20250417T110000
DTEND;TZID=America/New_York:20250417T140000
DTSTAMP:20260423T172003
CREATED:20250403T143417Z
LAST-MODIFIED:20250410T174839Z
UID:548-1744887600-1744898400@craftandfound.com
SUMMARY:Crafty Kids Drop-In: Magic Wands
DESCRIPTION:Free Family Drop-In Event \nSchools out… stop by! Bring the kiddos by for a free family event. \nCraft: Magic Wands! \nUsing basic supplies and a lot of imagination\, we will be creating our very own custom magic wands. Choose your style\, color\, extras\, and more! \nThis is a drop-in event\, not a drop-off event. A trusted adult should plan to stay with any kids under age 16. Materials and instructions will be available but there will be limited supervision from shop staff.
URL:https://craftandfound.com/calendar/crafty-kids-drop-in-craft/
LOCATION:Craft and Found Exchange\, Rum Brook Place * 249 Rt 10 N\, Grantham\, NH\, 03753\, United States
CATEGORIES:Drop-in,Free event
ATTACH;FMTTYPE=image/webp:https://craftandfound.com/wp-content/uploads/2025/04/IMG_0571.webp
END:VEVENT
BEGIN:VEVENT
DTSTART;TZID=America/New_York:20250414T110000
DTEND;TZID=America/New_York:20250414T140000
DTSTAMP:20260423T172003
CREATED:20250324T161524Z
LAST-MODIFIED:20250410T174702Z
UID:540-1744628400-1744639200@craftandfound.com
SUMMARY:Crafty Kids Drop-In: Weaving
DESCRIPTION:Free Family Drop-In Event \nSchools out… stop by! Bring the kiddos by for a free family event. \nCraft: Weaving for All Ages! \nCreate your own basic cardboard loom and start weaving a project! Different variations will be available by age group (Littles: simple round loom with chunky yarn\, Middles: basic loom with options for textures\, Bigs: intricate bracelet weaving using embroidery floss) \nThis is a drop-in event\, not a drop-off event. A trusted adult should plan to stay with any kids under age 16. Materials and instructions will be available but there will be limited supervision from shop staff.
URL:https://craftandfound.com/calendar/create-a-placemat-kids-class/
LOCATION:Craft and Found Exchange\, Rum Brook Place * 249 Rt 10 N\, Grantham\, NH\, 03753\, United States
CATEGORIES:Drop-in,Free event
ATTACH;FMTTYPE=image/jpeg:https://craftandfound.com/wp-content/uploads/2025/03/IMG_0573.jpeg
END:VEVENT
BEGIN:VEVENT
DTSTART;TZID=America/New_York:20250411T140000
DTEND;TZID=America/New_York:20250411T170000
DTSTAMP:20260423T172003
CREATED:20250320T182159Z
LAST-MODIFIED:20250320T182159Z
UID:510-1744380000-1744390800@craftandfound.com
SUMMARY:Free Community Event - Trivets and Cork Boards
DESCRIPTION:Stop by the workshop every Friday afternoon from 2pm-5pm in April to make a trivet or cork board! \nThis is a free drop-in community event. Come by to connect with other community members\, get crafty\, and repurpose some materials! \nAll materials will be out in the workshop. Bring nothing but yourself!
URL:https://craftandfound.com/calendar/free-community-event-trivets-and-cork-boards/
LOCATION:Craft and Found Exchange\, Rum Brook Place * 249 Rt 10 N\, Grantham\, NH\, 03753\, United States
CATEGORIES:Drop-in,Free event
ATTACH;FMTTYPE=image/jpeg:https://craftandfound.com/wp-content/uploads/2025/03/IMG_5495-scaled.jpeg
END:VEVENT
BEGIN:VEVENT
DTSTART;TZID=America/New_York:20250405T140000
DTEND;TZID=America/New_York:20250405T170000
DTSTAMP:20260423T172003
CREATED:20250120T190449Z
LAST-MODIFIED:20250120T190449Z
UID:403-1743861600-1743872400@craftandfound.com
SUMMARY:Saturday Crafternoon
DESCRIPTION:Free drop in event \nJoin us on the first Saturday of the month for Crafternoon… bring your WIP’s\, bring your craftastrophes\, bring your craftersblock\, bring your questions about what the heck a WIP is. We welcome it all. We’ll just be here… maybe crafting\, maybe just talking about Agatha All Along. \nStore will be open our regular hours for shopping. \n(Pro-tip: swing by Rum Brook Market and grab a rotisserie chicken afterwards and BOOM\, dinner.)
URL:https://craftandfound.com/calendar/saturday-crafternoon-4/
LOCATION:Craft and Found Exchange\, Rum Brook Place * 249 Rt 10 N\, Grantham\, NH\, 03753\, United States
CATEGORIES:Drop-in,Free event,Monthly event
END:VEVENT
BEGIN:VEVENT
DTSTART;TZID=America/New_York:20250404T140000
DTEND;TZID=America/New_York:20250404T170000
DTSTAMP:20260423T172003
CREATED:20250320T182001Z
LAST-MODIFIED:20250320T182432Z
UID:507-1743775200-1743786000@craftandfound.com
SUMMARY:Free Community Event - Trivets and Cork Boards
DESCRIPTION:Stop by the workshop every Friday afternoon from 2pm-5pm in April to make a trivet or cork board! \nThis is a free drop-in community event. Come by to connect with other community members\, get crafty\, and repurpose some materials! \nAll materials will be out in the workshop. Bring nothing but yourself!
URL:https://craftandfound.com/calendar/free-drop-in-community-event-trivets-and-cork-boards/
LOCATION:Craft and Found Exchange\, Rum Brook Place * 249 Rt 10 N\, Grantham\, NH\, 03753\, United States
CATEGORIES:Drop-in,Free event
ATTACH;FMTTYPE=image/jpeg:https://craftandfound.com/wp-content/uploads/2025/03/IMG_5495-scaled.jpeg
END:VEVENT
BEGIN:VEVENT
DTSTART;TZID=America/New_York:20250322T140000
DTEND;TZID=America/New_York:20250322T170000
DTSTAMP:20260423T172003
CREATED:20241129T191104Z
LAST-MODIFIED:20241228T212047Z
UID:171-1742652000-1742662800@craftandfound.com
SUMMARY:LEGO Swap
DESCRIPTION:Free drop in event \nEvery 4th Saturday of the month\, we will host a free LEGO swap. Bring a set you no longer want\, trade it for a set you want. Any sets left at the end of the day will be held until next months swap. \nThe shop will be open for shopping for our normal Saturday hours during this event. \nCraft and Found does not manage or monitor the swaps or value of sets during this event. We are simply hosting the space. The intention of this event is to promote community\, sharing\, joy\, and to reduce waste. 
URL:https://craftandfound.com/calendar/lego-swap-3/
LOCATION:Craft and Found Exchange\, Rum Brook Place * 249 Rt 10 N\, Grantham\, NH\, 03753\, United States
CATEGORIES:Drop-in,Free event,Monthly event
END:VEVENT
BEGIN:VEVENT
DTSTART;TZID=America/New_York:20250317T110000
DTEND;TZID=America/New_York:20250317T140000
DTSTAMP:20260423T172003
CREATED:20250218T112118Z
LAST-MODIFIED:20250218T112118Z
UID:464-1742209200-1742220000@craftandfound.com
SUMMARY:St Patrick's Day Crafts Drop-In Event
DESCRIPTION:Free Drop-In Event \nCome celebrate the luck of the Irish with some fun St. Patrick’s Day crafts. \nThis is a drop-in event\, not a drop-off event. A trusted adult should plan to stay with any kids under age 16. Materials and instructions will be available but there will be limited supervision from shop staff.
URL:https://craftandfound.com/calendar/st-patricks-day-crafts-drop-in-event/
LOCATION:Craft and Found Exchange\, Rum Brook Place * 249 Rt 10 N\, Grantham\, NH\, 03753\, United States
CATEGORIES:Drop-in,Free event
END:VEVENT
BEGIN:VEVENT
DTSTART;TZID=America/New_York:20250310T110000
DTEND;TZID=America/New_York:20250310T140000
DTSTAMP:20260423T172003
CREATED:20250218T111747Z
LAST-MODIFIED:20250218T111747Z
UID:462-1741604400-1741615200@craftandfound.com
SUMMARY:Crafty Kids Drop-In Event
DESCRIPTION:Free Family Drop-In Event \nSchools out… stop by! Bring the kiddos by for a free family event. \nCraft: TBD \nThis is a drop-in event\, not a drop-off event. A trusted adult should plan to stay with any kids under age 16. Materials and instructions will be available but there will be limited supervision from shop staff.
URL:https://craftandfound.com/calendar/crafty-kids-drop-in-event-2/
LOCATION:Craft and Found Exchange\, Rum Brook Place * 249 Rt 10 N\, Grantham\, NH\, 03753\, United States
CATEGORIES:Drop-in,Free event
END:VEVENT
BEGIN:VEVENT
DTSTART;TZID=America/New_York:20250301T150000
DTEND;TZID=America/New_York:20250301T170000
DTSTAMP:20260423T172003
CREATED:20241129T185949Z
LAST-MODIFIED:20241228T212058Z
UID:163-1740841200-1740848400@craftandfound.com
SUMMARY:Saturday Crafternoon
DESCRIPTION:Free drop in event \nJoin us on the first Saturday of the month for Crafternoon… bring your WIP’s\, bring your craftastrophes\, bring your craftersblock\, bring your questions about what the heck a WIP is. We welcome it all. We’ll just be here… maybe crafting\, maybe just talking about Agatha All Along. \nStore will be open our regular hours for shopping. \n(Pro-tip: swing by Rum Brook Market and grab a rotisserie chicken afterwards and BOOM\, dinner.)
URL:https://craftandfound.com/calendar/saturday-crafternoon-3/
LOCATION:Craft and Found Exchange\, Rum Brook Place * 249 Rt 10 N\, Grantham\, NH\, 03753\, United States
CATEGORIES:Drop-in,Free event,Monthly event
END:VEVENT
BEGIN:VEVENT
DTSTART;TZID=America/New_York:20250222T140000
DTEND;TZID=America/New_York:20250222T170000
DTSTAMP:20260423T172003
CREATED:20241129T191031Z
LAST-MODIFIED:20241228T212106Z
UID:169-1740232800-1740243600@craftandfound.com
SUMMARY:LEGO Swap
DESCRIPTION:Free drop in event \nEvery 4th Saturday of the month\, we will host a free LEGO swap. Bring a set you no longer want\, trade it for a set you want. Any sets left at the end of the day will be held until next months swap. \nThe shop will be open for shopping for our normal Saturday hours during this event. \nCraft and Found does not manage or monitor the swaps or value of sets during this event. We are simply hosting the space. The intention of this event is to promote community\, sharing\, joy\, and to reduce waste. 
URL:https://craftandfound.com/calendar/lego-swap-2/
LOCATION:Craft and Found Exchange\, Rum Brook Place * 249 Rt 10 N\, Grantham\, NH\, 03753\, United States
CATEGORIES:Drop-in,Free event,Monthly event
END:VEVENT
BEGIN:VEVENT
DTSTART;TZID=America/New_York:20250220T110000
DTEND;TZID=America/New_York:20250220T140000
DTSTAMP:20260423T172003
CREATED:20241129T191851Z
LAST-MODIFIED:20250208T133317Z
UID:176-1740049200-1740060000@craftandfound.com
SUMMARY:Crafty Kids - Shrinky Dinks drop in event
DESCRIPTION:Free Family Event \nSchools out… stop by! Bring the kiddos by for a free family event. \nMaterials to make your own Shinky Dinks will be out in the workshop! Come create a unique pendant or keychain… use a pattern or watch your own drawing shrink down to half it’s size!
URL:https://craftandfound.com/calendar/tbd-crafty-kids-drop-in-event/
LOCATION:Craft and Found Exchange\, Rum Brook Place * 249 Rt 10 N\, Grantham\, NH\, 03753\, United States
CATEGORIES:Drop-in,Free event
END:VEVENT
BEGIN:VEVENT
DTSTART;TZID=America/New_York:20250217T110000
DTEND;TZID=America/New_York:20250217T140000
DTSTAMP:20260423T172003
CREATED:20241228T212619Z
LAST-MODIFIED:20250208T133359Z
UID:279-1739790000-1739800800@craftandfound.com
SUMMARY:Crafty Kids - Paper Spinners drop in event
DESCRIPTION:Free Family Drop-In Event \nSchools out… stop by! Bring the kiddos by for a free family event. \nCraft: Paper Spinners… simple\, clever\, endlessly entertaining \nThis is a drop-in event\, not a drop-off event. A trusted adult should plan to stay with any kids under age 16. Materials and instructions will be available but there will be limited supervision from shop staff.
URL:https://craftandfound.com/calendar/crafty-kids-drop-in-event/
LOCATION:Craft and Found Exchange\, Rum Brook Place * 249 Rt 10 N\, Grantham\, NH\, 03753\, United States
CATEGORIES:Drop-in,Free event
ATTACH;FMTTYPE=image/jpeg:https://craftandfound.com/wp-content/uploads/2024/12/IMG_0519.jpeg
END:VEVENT
END:VCALENDAR