BEGIN:VCALENDAR
VERSION:2.0
PRODID:-//Craft and Found Exchange - ECPv6.15.20//NONSGML v1.0//EN
CALSCALE:GREGORIAN
METHOD:PUBLISH
X-WR-CALNAME:Craft and Found Exchange
X-ORIGINAL-URL:https://craftandfound.com
X-WR-CALDESC:Events for Craft and Found Exchange
REFRESH-INTERVAL;VALUE=DURATION:PT1H
X-Robots-Tag:noindex
X-PUBLISHED-TTL:PT1H
BEGIN:VTIMEZONE
TZID:America/New_York
BEGIN:DAYLIGHT
TZOFFSETFROM:-0500
TZOFFSETTO:-0400
TZNAME:EDT
DTSTART:20250309T070000
END:DAYLIGHT
BEGIN:STANDARD
TZOFFSETFROM:-0400
TZOFFSETTO:-0500
TZNAME:EST
DTSTART:20251102T060000
END:STANDARD
BEGIN:DAYLIGHT
TZOFFSETFROM:-0500
TZOFFSETTO:-0400
TZNAME:EDT
DTSTART:20260308T070000
END:DAYLIGHT
BEGIN:STANDARD
TZOFFSETFROM:-0400
TZOFFSETTO:-0500
TZNAME:EST
DTSTART:20261101T060000
END:STANDARD
BEGIN:DAYLIGHT
TZOFFSETFROM:-0500
TZOFFSETTO:-0400
TZNAME:EDT
DTSTART:20270314T070000
END:DAYLIGHT
BEGIN:STANDARD
TZOFFSETFROM:-0400
TZOFFSETTO:-0500
TZNAME:EST
DTSTART:20271107T060000
END:STANDARD
END:VTIMEZONE
BEGIN:VEVENT
DTSTART;TZID=America/New_York:20260516T103000
DTEND;TZID=America/New_York:20260516T120000
DTSTAMP:20260423T154642
CREATED:20260409T160216Z
LAST-MODIFIED:20260409T160216Z
UID:1280-1778927400-1778932800@craftandfound.com
SUMMARY:Felted Soap Class
DESCRIPTION:Paid Class\, Registration Required \nHead here for more information and to register for this class!
URL:https://craftandfound.com/calendar/felted-soap-class-3/
LOCATION:Craft and Found Exchange\, Rum Brook Place * 249 Rt 10 N\, Grantham\, NH\, 03753\, United States
END:VEVENT
BEGIN:VEVENT
DTSTART;TZID=America/New_York:20260509T133000
DTEND;TZID=America/New_York:20260509T153000
DTSTAMP:20260423T154642
CREATED:20260416T160251Z
LAST-MODIFIED:20260416T160251Z
UID:1303-1778333400-1778340600@craftandfound.com
SUMMARY:Private Event: Birthday Party
DESCRIPTION:We will be hosting a birthday party in the workshop! The store will still be open our normal hours.
URL:https://craftandfound.com/calendar/private-event-birthday-party/
LOCATION:Craft and Found Exchange\, Rum Brook Place * 249 Rt 10 N\, Grantham\, NH\, 03753\, United States
CATEGORIES:Private Event
END:VEVENT
BEGIN:VEVENT
DTSTART;TZID=America/New_York:20260503T140000
DTEND;TZID=America/New_York:20260503T160000
DTSTAMP:20260423T154642
CREATED:20260416T150554Z
LAST-MODIFIED:20260416T153316Z
UID:1295-1777816800-1777824000@craftandfound.com
SUMMARY:DI Fundraiser: Kinusaiga Decorative Ball class
DESCRIPTION:Paid Class\, Registration Required \nHead here for more information and to register for this class! \nThis class is fundraiser for the GVS Destination Imagination team The Dizzy Iguanas to help send them to Global Finals!
URL:https://craftandfound.com/calendar/di-fundraiser-kinusaiga-decorative-ball-class-2/
LOCATION:Craft and Found Exchange\, Rum Brook Place * 249 Rt 10 N\, Grantham\, NH\, 03753\, United States
CATEGORIES:Paid Class
END:VEVENT
BEGIN:VEVENT
DTSTART;TZID=America/New_York:20260502T103000
DTEND;TZID=America/New_York:20260502T123000
DTSTAMP:20260423T154642
CREATED:20260416T150347Z
LAST-MODIFIED:20260416T155744Z
UID:1293-1777717800-1777725000@craftandfound.com
SUMMARY:DI Fundraiser: Kinusaiga Decorative Ball Class
DESCRIPTION:Paid Class\, Registration Required \nHead here for more information and to register for this class! \nThis class is a fundraiser for the GVS Destination Imagination team The Dizzy Iguanas to help send them to Global Finals!
URL:https://craftandfound.com/calendar/di-fundraiser-kinusaiga-decorative-ball-class/
LOCATION:Craft and Found Exchange\, Rum Brook Place * 249 Rt 10 N\, Grantham\, NH\, 03753\, United States
CATEGORIES:Paid Class
END:VEVENT
BEGIN:VEVENT
DTSTART;TZID=America/New_York:20260426T140000
DTEND;TZID=America/New_York:20260426T153000
DTSTAMP:20260423T154642
CREATED:20260314T215321Z
LAST-MODIFIED:20260314T215321Z
UID:1226-1777212000-1777217400@craftandfound.com
SUMMARY:Macrame Towel Holder
DESCRIPTION:Paid Class\, Registration Required \nHead here for more information and to register for this class!
URL:https://craftandfound.com/calendar/macrame-towel-holder/
LOCATION:Craft and Found Exchange\, Rum Brook Place * 249 Rt 10 N\, Grantham\, NH\, 03753\, United States
CATEGORIES:Paid Class
END:VEVENT
BEGIN:VEVENT
DTSTART;TZID=America/New_York:20260425T150000
DTEND;TZID=America/New_York:20260425T173000
DTSTAMP:20260423T154642
CREATED:20260314T215233Z
LAST-MODIFIED:20260409T154952Z
UID:1224-1777129200-1777138200@craftandfound.com
SUMMARY:Kinusaiga Class (sold out)
DESCRIPTION:Paid Class\, Registration Required \nThis class is sold out.
URL:https://craftandfound.com/calendar/kinusaiga-class-3/
LOCATION:Craft and Found Exchange\, Rum Brook Place * 249 Rt 10 N\, Grantham\, NH\, 03753\, United States
CATEGORIES:Paid Class
END:VEVENT
BEGIN:VEVENT
DTSTART;TZID=America/New_York:20260425T100000
DTEND;TZID=America/New_York:20260425T123000
DTSTAMP:20260423T154642
CREATED:20260328T195302Z
LAST-MODIFIED:20260328T195302Z
UID:1264-1777111200-1777120200@craftandfound.com
SUMMARY:Zentangle
DESCRIPTION:Paid Class\, Registration Required \nHead here to register for this class!
URL:https://craftandfound.com/calendar/zentangle-3/
LOCATION:Craft and Found Exchange\, Rum Brook Place * 249 Rt 10 N\, Grantham\, NH\, 03753\, United States
CATEGORIES:Monthly event,Paid Class
END:VEVENT
BEGIN:VEVENT
DTSTART;TZID=America/New_York:20260424T160000
DTEND;TZID=America/New_York:20260424T170000
DTSTAMP:20260423T154642
CREATED:20260416T154024Z
LAST-MODIFIED:20260416T155318Z
UID:1297-1777046400-1777050000@craftandfound.com
SUMMARY:DI Fundraiser: Shrinky Dink Charm Bracelets
DESCRIPTION:Paid Class\, Registration Required \nHead here for more information and to register for this class! \nThis class is fundraiser for the GVS Destination Imagination team The Dizzy Iguanas to help send them to Global Finals!
URL:https://craftandfound.com/calendar/di-fundraiser-shrinky-dinks-for-all-ages/
LOCATION:Craft and Found Exchange\, Rum Brook Place * 249 Rt 10 N\, Grantham\, NH\, 03753\, United States
CATEGORIES:Paid Class
END:VEVENT
BEGIN:VEVENT
DTSTART;TZID=America/New_York:20260418T103000
DTEND;TZID=America/New_York:20260418T123000
DTSTAMP:20260423T154642
CREATED:20260314T215148Z
LAST-MODIFIED:20260314T215148Z
UID:1222-1776508200-1776515400@craftandfound.com
SUMMARY:Macrame Market Bag
DESCRIPTION:Paid Class\, Registration Required \nHead here for more information and to register for this class!
URL:https://craftandfound.com/calendar/macrame-market-bag/
LOCATION:Craft and Found Exchange\, Rum Brook Place * 249 Rt 10 N\, Grantham\, NH\, 03753\, United States
CATEGORIES:Paid Class
END:VEVENT
BEGIN:VEVENT
DTSTART;TZID=America/New_York:20260412T140000
DTEND;TZID=America/New_York:20260412T153000
DTSTAMP:20260423T154642
CREATED:20260314T215053Z
LAST-MODIFIED:20260409T160122Z
UID:1220-1776002400-1776007800@craftandfound.com
SUMMARY:Felted Soap Class (canceled)
DESCRIPTION:This class has been rescheduled and will be held Saturday May 16.
URL:https://craftandfound.com/calendar/felted-soap-class-2/
LOCATION:Craft and Found Exchange\, Rum Brook Place * 249 Rt 10 N\, Grantham\, NH\, 03753\, United States
CATEGORIES:Paid Class
END:VEVENT
BEGIN:VEVENT
DTSTART;TZID=America/New_York:20260411T100000
DTEND;TZID=America/New_York:20260411T123000
DTSTAMP:20260423T154642
CREATED:20260227T155417Z
LAST-MODIFIED:20260322T175635Z
UID:1193-1775901600-1775910600@craftandfound.com
SUMMARY:Kinusaiga Class (sold out)
DESCRIPTION:Paid Class\, Registration Required \nThis session is sold out\, we do have another session April 25.
URL:https://craftandfound.com/calendar/kinusaiga-class-2/
LOCATION:Craft and Found Exchange\, Rum Brook Place * 249 Rt 10 N\, Grantham\, NH\, 03753\, United States
CATEGORIES:Paid Class
END:VEVENT
BEGIN:VEVENT
DTSTART;TZID=America/New_York:20260404T103000
DTEND;TZID=America/New_York:20260404T123000
DTSTAMP:20260423T154642
CREATED:20260214T221043Z
LAST-MODIFIED:20260214T221043Z
UID:1165-1775298600-1775305800@craftandfound.com
SUMMARY:Macrame Plant Hanger
DESCRIPTION:Paid Class\, Registration Required \nHead here to register for this class!
URL:https://craftandfound.com/calendar/macrame-plant-hanger/
LOCATION:Craft and Found Exchange\, Rum Brook Place * 249 Rt 10 N\, Grantham\, NH\, 03753\, United States
CATEGORIES:Paid Class
END:VEVENT
BEGIN:VEVENT
DTSTART;TZID=America/New_York:20260330T110000
DTEND;TZID=America/New_York:20260330T120000
DTSTAMP:20260423T154642
CREATED:20260214T224920Z
LAST-MODIFIED:20260214T224920Z
UID:1173-1774868400-1774872000@craftandfound.com
SUMMARY:Crafty Kids: SLIME!
DESCRIPTION:Crafty Kids are back in the workshop and we are getting messy! School is closed so we are making slime. This an all ages craft so everyone can participate. \nNo registration is required but a $5 donation is greatly appreciated. \nWe do ask that a trusted adult stay onsite with any kiddos during the event.
URL:https://craftandfound.com/calendar/crafty-kids-slime/
LOCATION:Craft and Found Exchange\, Rum Brook Place * 249 Rt 10 N\, Grantham\, NH\, 03753\, United States
CATEGORIES:Drop-in,Free event
END:VEVENT
BEGIN:VEVENT
DTSTART;TZID=America/New_York:20260328T100000
DTEND;TZID=America/New_York:20260328T130000
DTSTAMP:20260423T154642
CREATED:20260214T220949Z
LAST-MODIFIED:20260214T220949Z
UID:1163-1774692000-1774702800@craftandfound.com
SUMMARY:Zentangle
DESCRIPTION:Paid Class\, Registration Required \nHead here to register for this class!
URL:https://craftandfound.com/calendar/zentangle-2/
LOCATION:Craft and Found Exchange\, Rum Brook Place * 249 Rt 10 N\, Grantham\, NH\, 03753\, United States
CATEGORIES:Monthly event,Paid Class
END:VEVENT
BEGIN:VEVENT
DTSTART;TZID=America/New_York:20260322T140000
DTEND;TZID=America/New_York:20260322T163000
DTSTAMP:20260423T154642
CREATED:20260225T170612Z
LAST-MODIFIED:20260227T195541Z
UID:1177-1774188000-1774197000@craftandfound.com
SUMMARY:Kinusaiga Class (sold out)
DESCRIPTION:Paid Class\, Registration Required \nThis session is sold out. \nWe are offering another session on April 11th\, register here!
URL:https://craftandfound.com/calendar/kinusaiga-class/
LOCATION:Craft and Found Exchange\, Rum Brook Place * 249 Rt 10 N\, Grantham\, NH\, 03753\, United States
CATEGORIES:Paid Class
END:VEVENT
BEGIN:VEVENT
DTSTART;TZID=America/New_York:20260321T150000
DTEND;TZID=America/New_York:20260321T170000
DTSTAMP:20260423T154642
CREATED:20260214T221821Z
LAST-MODIFIED:20260214T224228Z
UID:1167-1774105200-1774112400@craftandfound.com
SUMMARY:Tarot and Tea
DESCRIPTION:Welcome Spring and join us for a Tarot Tea Party! We will have tarot cards\, oracle cards\, tea\, snacks\, good company\, and a fun craft. This event will take the shape of an informal gathering of people excited to explore tarot together. No prior experience is necessary. \nWe are asking people to pre-register for this event using the registration link here \nPlease note: There will not be a formal trained Tarot Reader present nor will there be formal readings at this event. This is more of a time for exploration and community.
URL:https://craftandfound.com/calendar/tarot-tea-party/
LOCATION:Craft and Found Exchange\, Rum Brook Place * 249 Rt 10 N\, Grantham\, NH\, 03753\, United States
CATEGORIES:Paid Class
END:VEVENT
BEGIN:VEVENT
DTSTART;TZID=America/New_York:20260321T100000
DTEND;TZID=America/New_York:20260321T123000
DTSTAMP:20260423T154642
CREATED:20260314T215622Z
LAST-MODIFIED:20260314T215622Z
UID:1230-1774087200-1774096200@craftandfound.com
SUMMARY:Private Birthday Party
DESCRIPTION:The workshop will be hosting a private party to celebrate a birthday! \nThe shop will be open.
URL:https://craftandfound.com/calendar/private-birthday-party/
LOCATION:NH
CATEGORIES:Private Event
END:VEVENT
BEGIN:VEVENT
DTSTART;TZID=America/New_York:20260315T100000
DTEND;TZID=America/New_York:20260315T120000
DTSTAMP:20260423T154642
CREATED:20260214T220910Z
LAST-MODIFIED:20260214T220910Z
UID:1161-1773568800-1773576000@craftandfound.com
SUMMARY:Crochet Skills Class
DESCRIPTION:Paid Class\, Registration Required \nHead here to register for this class!
URL:https://craftandfound.com/calendar/crochet-skills-class/
LOCATION:NH
CATEGORIES:Paid Class
END:VEVENT
BEGIN:VEVENT
DTSTART;TZID=America/New_York:20260314T100000
DTEND;TZID=America/New_York:20260314T120000
DTSTAMP:20260423T154642
CREATED:20260214T220813Z
LAST-MODIFIED:20260214T220824Z
UID:1159-1773482400-1773489600@craftandfound.com
SUMMARY:Crochet 102: Beyond the Basics
DESCRIPTION:Paid Class\, Registration Required \nHead here to register for this class!
URL:https://craftandfound.com/calendar/crochet-102-beyond-the-basics-3/
LOCATION:Craft and Found Exchange\, Rum Brook Place * 249 Rt 10 N\, Grantham\, NH\, 03753\, United States
CATEGORIES:Paid Class
END:VEVENT
BEGIN:VEVENT
DTSTART;TZID=America/New_York:20260307T100000
DTEND;TZID=America/New_York:20260307T120000
DTSTAMP:20260423T154642
CREATED:20260214T220358Z
LAST-MODIFIED:20260214T220358Z
UID:1157-1772877600-1772884800@craftandfound.com
SUMMARY:Crochet 101: Learn to Crochet
DESCRIPTION:Paid Class\, Registration Required \nHead here to register for this class!
URL:https://craftandfound.com/calendar/crochet-101-learn-to-crochet-3/
LOCATION:Craft and Found Exchange\, Rum Brook Place * 249 Rt 10 N\, Grantham\, NH\, 03753\, United States
CATEGORIES:Paid Class
END:VEVENT
BEGIN:VEVENT
DTSTART;TZID=America/New_York:20260301T100000
DTEND;TZID=America/New_York:20260301T120000
DTSTAMP:20260423T154642
CREATED:20260102T221643Z
LAST-MODIFIED:20260102T221643Z
UID:1095-1772359200-1772366400@craftandfound.com
SUMMARY:Knitting Skills
DESCRIPTION:Paid Class\, Registration Required \nHead here to register for this class!
URL:https://craftandfound.com/calendar/knitting-skills/
LOCATION:NH
CATEGORIES:Paid Class
END:VEVENT
BEGIN:VEVENT
DTSTART;TZID=America/New_York:20260228T103000
DTEND;TZID=America/New_York:20260228T123000
DTSTAMP:20260423T154642
CREATED:20260102T230441Z
LAST-MODIFIED:20260102T230441Z
UID:1118-1772274600-1772281800@craftandfound.com
SUMMARY:Needle Felting Zombie Plants
DESCRIPTION:Paid Class\, Registration Required \nHead here to register for this class!
URL:https://craftandfound.com/calendar/needle-felting-zombie-plants/
LOCATION:Craft and Found Exchange\, Rum Brook Place * 249 Rt 10 N\, Grantham\, NH\, 03753\, United States
CATEGORIES:Paid Class
END:VEVENT
BEGIN:VEVENT
DTSTART;TZID=America/New_York:20260227T110000
DTEND;TZID=America/New_York:20260227T130000
DTSTAMP:20260423T154642
CREATED:20260209T162536Z
LAST-MODIFIED:20260209T162536Z
UID:1154-1772190000-1772197200@craftandfound.com
SUMMARY:Crafty Kids - Foam Block Printing
DESCRIPTION:Crafty Kids Vacation Drop-In Crafts are back! \nToday we will be doing a simple\, all-ages introduction to block printing. Using sheets of craft foam\, you will create your own block print that you can use to print onto paper\, cards\, journals\, and more. \nThis is a drop-in event held from 11am – 1pm. We do ask that a trusted adult stay and help as this is not a formal class with full instruction. All materials will be provided. \nRecommended for ages 4+.
URL:https://craftandfound.com/calendar/crafty-kids-foam-block-printing/
LOCATION:Craft and Found Exchange\, Rum Brook Place * 249 Rt 10 N\, Grantham\, NH\, 03753\, United States
CATEGORIES:Drop-in,Free event
END:VEVENT
BEGIN:VEVENT
DTSTART;TZID=America/New_York:20260226T110000
DTEND;TZID=America/New_York:20260226T130000
DTSTAMP:20260423T154642
CREATED:20260209T154046Z
LAST-MODIFIED:20260209T154046Z
UID:1152-1772103600-1772110800@craftandfound.com
SUMMARY:Crafty Kids - Cork Boats
DESCRIPTION:Crafty Kids Vacation Drop-In Crafts are back! \nJoin us to repurpose corks into awesome sea-worthy boats. We will design our own cork boats complete with custom sails and decorations. If we can’t play on the pirate ship out front\, we can make our own in the workshop! \nThis is a drop-in event held from 11am – 1pm. We do ask that a trusted adult stay and help as this is not a formal class with full instruction. All materials will be provided. \nRecommended for ages 4+.
URL:https://craftandfound.com/calendar/crafty-kids-cork-boats/
LOCATION:Craft and Found Exchange\, Rum Brook Place * 249 Rt 10 N\, Grantham\, NH\, 03753\, United States
CATEGORIES:Drop-in,Free event
END:VEVENT
BEGIN:VEVENT
DTSTART;TZID=America/New_York:20260223T110000
DTEND;TZID=America/New_York:20260223T130000
DTSTAMP:20260423T154642
CREATED:20260209T153708Z
LAST-MODIFIED:20260221T181931Z
UID:1149-1771844400-1771851600@craftandfound.com
SUMMARY:Crafty Kids - Tiny Books and Popsicle Stick Cuffs
DESCRIPTION:Crafty Kids Vacation Drop-In Crafts are back! \nJoin us to make either a tiny book or a popsicle stick cuff! We will be making tiny books using a single sheet of paper\, 6 folds and 3 cuts. We will also have materials to decorate a popsicle stick cuffs.\nCuffs can become bracelets\, decorations\, ornaments\, or whatever else your imagination can create. \nThis is a drop-in event held from 11am – 1pm. We do ask that a trusted adult stay and help as this is not a formal class with full instruction. All materials will be provided. \nRecommended for ages 4+.
URL:https://craftandfound.com/calendar/craft-kids-popsicle-stick-cuffs/
LOCATION:Craft and Found Exchange\, Rum Brook Place * 249 Rt 10 N\, Grantham\, NH\, 03753\, United States
CATEGORIES:Drop-in,Free event
END:VEVENT
BEGIN:VEVENT
DTSTART;TZID=America/New_York:20260222T100000
DTEND;TZID=America/New_York:20260222T120000
DTSTAMP:20260423T154642
CREATED:20260102T221609Z
LAST-MODIFIED:20260102T224135Z
UID:1093-1771754400-1771761600@craftandfound.com
SUMMARY:Knitting 103: Around We Knit
DESCRIPTION:Paid Class\, Registration Required \nHead here to register for this class!
URL:https://craftandfound.com/calendar/knitting-103/
LOCATION:Craft and Found Exchange\, Rum Brook Place * 249 Rt 10 N\, Grantham\, NH\, 03753\, United States
CATEGORIES:Paid Class
END:VEVENT
BEGIN:VEVENT
DTSTART;TZID=America/New_York:20260221T100000
DTEND;TZID=America/New_York:20260221T170000
DTSTAMP:20260423T154642
CREATED:20260207T154443Z
LAST-MODIFIED:20260207T154443Z
UID:1145-1771668000-1771693200@craftandfound.com
SUMMARY:Fill-A-Bag Sale
DESCRIPTION:Our first Fill-A-Bag Sale of 2026 got buried in snow so we are adding a second date! \nWe moved into this amazing space 1 year ago and it’s time to deep clean the back room! Our craft supply hoard is your treasure hunt! The workshop will be transformed into our yard sale/ flash sale/ fill a bag sale. We will have $5\, $7\, $10 Fill-A-Bag\, “make an offer” sales\, discounts on bulk items\, and more.
URL:https://craftandfound.com/calendar/fill-a-bag-sale/
LOCATION:Craft and Found Exchange\, Rum Brook Place * 249 Rt 10 N\, Grantham\, NH\, 03753\, United States
END:VEVENT
BEGIN:VEVENT
DTSTART;TZID=America/New_York:20260214T103000
DTEND;TZID=America/New_York:20260214T123000
DTSTAMP:20260423T154642
CREATED:20260102T224613Z
LAST-MODIFIED:20260102T224613Z
UID:1109-1771065000-1771072200@craftandfound.com
SUMMARY:Punch Needle Heart
DESCRIPTION:Paid Class\, Registration Required \nHead here to register for this class!
URL:https://craftandfound.com/calendar/punch-needle-heart/
LOCATION:Craft and Found Exchange\, Rum Brook Place * 249 Rt 10 N\, Grantham\, NH\, 03753\, United States
CATEGORIES:Paid Class
END:VEVENT
BEGIN:VEVENT
DTSTART;TZID=America/New_York:20260209T100000
DTEND;TZID=America/New_York:20260209T120000
DTSTAMP:20260423T154642
CREATED:20260102T210232Z
LAST-MODIFIED:20260124T195724Z
UID:1062-1770631200-1770638400@craftandfound.com
SUMMARY:Rescheduled: Pen and Ink / Studio Session with Brooke
DESCRIPTION:Paid Class\, Registration Required \nHead here to register for this class!
URL:https://craftandfound.com/calendar/pen-and-ink-studio-session-with-brooke/
LOCATION:Craft and Found Exchange\, Rum Brook Place * 249 Rt 10 N\, Grantham\, NH\, 03753\, United States
CATEGORIES:Paid Class
END:VEVENT
BEGIN:VEVENT
DTSTART;TZID=America/New_York:20260207T100000
DTEND;TZID=America/New_York:20260207T170000
DTSTAMP:20260423T154642
CREATED:20260102T221303Z
LAST-MODIFIED:20260102T224104Z
UID:1085-1770458400-1770483600@craftandfound.com
SUMMARY:$5 Fill-A-Bag Sale
DESCRIPTION:We moved into this amazing space 1 year ago and it’s time to deep clean the back room! Our craft supply hoard is your treasure hunt! For one day only the workshop will be transformed into our yard sale/ flash sale/ fill a bag sale. We will have $5 Fill-A-Bag\, “make an offer” sales\, deep discounts on bulk items\, and more.
URL:https://craftandfound.com/calendar/5-fill-a-bag-sale/
LOCATION:Craft and Found Exchange\, Rum Brook Place * 249 Rt 10 N\, Grantham\, NH\, 03753\, United States
CATEGORIES:Free event
END:VEVENT
END:VCALENDAR