BEGIN:VCALENDAR
VERSION:2.0
PRODID:-//Craft and Found Exchange - ECPv6.15.20//NONSGML v1.0//EN
CALSCALE:GREGORIAN
METHOD:PUBLISH
X-ORIGINAL-URL:https://craftandfound.com
X-WR-CALDESC:Events for Craft and Found Exchange
REFRESH-INTERVAL;VALUE=DURATION:PT1H
X-Robots-Tag:noindex
X-PUBLISHED-TTL:PT1H
BEGIN:VTIMEZONE
TZID:America/New_York
BEGIN:DAYLIGHT
TZOFFSETFROM:-0500
TZOFFSETTO:-0400
TZNAME:EDT
DTSTART:20250309T070000
END:DAYLIGHT
BEGIN:STANDARD
TZOFFSETFROM:-0400
TZOFFSETTO:-0500
TZNAME:EST
DTSTART:20251102T060000
END:STANDARD
BEGIN:DAYLIGHT
TZOFFSETFROM:-0500
TZOFFSETTO:-0400
TZNAME:EDT
DTSTART:20260308T070000
END:DAYLIGHT
BEGIN:STANDARD
TZOFFSETFROM:-0400
TZOFFSETTO:-0500
TZNAME:EST
DTSTART:20261101T060000
END:STANDARD
BEGIN:DAYLIGHT
TZOFFSETFROM:-0500
TZOFFSETTO:-0400
TZNAME:EDT
DTSTART:20270314T070000
END:DAYLIGHT
BEGIN:STANDARD
TZOFFSETFROM:-0400
TZOFFSETTO:-0500
TZNAME:EST
DTSTART:20271107T060000
END:STANDARD
END:VTIMEZONE
BEGIN:VEVENT
DTSTART;TZID=America/New_York:20260424T160000
DTEND;TZID=America/New_York:20260424T170000
DTSTAMP:20260423T170348
CREATED:20260416T154024Z
LAST-MODIFIED:20260416T155318Z
UID:1297-1777046400-1777050000@craftandfound.com
SUMMARY:DI Fundraiser: Shrinky Dink Charm Bracelets
DESCRIPTION:Paid Class\, Registration Required \nHead here for more information and to register for this class! \nThis class is fundraiser for the GVS Destination Imagination team The Dizzy Iguanas to help send them to Global Finals!
URL:https://craftandfound.com/calendar/di-fundraiser-shrinky-dinks-for-all-ages/
LOCATION:Craft and Found Exchange\, Rum Brook Place * 249 Rt 10 N\, Grantham\, NH\, 03753\, United States
CATEGORIES:Paid Class
END:VEVENT
BEGIN:VEVENT
DTSTART;TZID=America/New_York:20260425T100000
DTEND;TZID=America/New_York:20260425T123000
DTSTAMP:20260423T170348
CREATED:20260328T195302Z
LAST-MODIFIED:20260328T195302Z
UID:1264-1777111200-1777120200@craftandfound.com
SUMMARY:Zentangle
DESCRIPTION:Paid Class\, Registration Required \nHead here to register for this class!
URL:https://craftandfound.com/calendar/zentangle-3/
LOCATION:Craft and Found Exchange\, Rum Brook Place * 249 Rt 10 N\, Grantham\, NH\, 03753\, United States
CATEGORIES:Monthly event,Paid Class
END:VEVENT
BEGIN:VEVENT
DTSTART;TZID=America/New_York:20260425T150000
DTEND;TZID=America/New_York:20260425T173000
DTSTAMP:20260423T170348
CREATED:20260314T215233Z
LAST-MODIFIED:20260409T154952Z
UID:1224-1777129200-1777138200@craftandfound.com
SUMMARY:Kinusaiga Class (sold out)
DESCRIPTION:Paid Class\, Registration Required \nThis class is sold out.
URL:https://craftandfound.com/calendar/kinusaiga-class-3/
LOCATION:Craft and Found Exchange\, Rum Brook Place * 249 Rt 10 N\, Grantham\, NH\, 03753\, United States
CATEGORIES:Paid Class
END:VEVENT
BEGIN:VEVENT
DTSTART;TZID=America/New_York:20260426T140000
DTEND;TZID=America/New_York:20260426T153000
DTSTAMP:20260423T170348
CREATED:20260314T215321Z
LAST-MODIFIED:20260314T215321Z
UID:1226-1777212000-1777217400@craftandfound.com
SUMMARY:Macrame Towel Holder
DESCRIPTION:Paid Class\, Registration Required \nHead here for more information and to register for this class!
URL:https://craftandfound.com/calendar/macrame-towel-holder/
LOCATION:Craft and Found Exchange\, Rum Brook Place * 249 Rt 10 N\, Grantham\, NH\, 03753\, United States
CATEGORIES:Paid Class
END:VEVENT
BEGIN:VEVENT
DTSTART;TZID=America/New_York:20260502T103000
DTEND;TZID=America/New_York:20260502T123000
DTSTAMP:20260423T170348
CREATED:20260416T150347Z
LAST-MODIFIED:20260416T155744Z
UID:1293-1777717800-1777725000@craftandfound.com
SUMMARY:DI Fundraiser: Kinusaiga Decorative Ball Class
DESCRIPTION:Paid Class\, Registration Required \nHead here for more information and to register for this class! \nThis class is a fundraiser for the GVS Destination Imagination team The Dizzy Iguanas to help send them to Global Finals!
URL:https://craftandfound.com/calendar/di-fundraiser-kinusaiga-decorative-ball-class/
LOCATION:Craft and Found Exchange\, Rum Brook Place * 249 Rt 10 N\, Grantham\, NH\, 03753\, United States
CATEGORIES:Paid Class
END:VEVENT
BEGIN:VEVENT
DTSTART;TZID=America/New_York:20260503T140000
DTEND;TZID=America/New_York:20260503T160000
DTSTAMP:20260423T170348
CREATED:20260416T150554Z
LAST-MODIFIED:20260416T153316Z
UID:1295-1777816800-1777824000@craftandfound.com
SUMMARY:DI Fundraiser: Kinusaiga Decorative Ball class
DESCRIPTION:Paid Class\, Registration Required \nHead here for more information and to register for this class! \nThis class is fundraiser for the GVS Destination Imagination team The Dizzy Iguanas to help send them to Global Finals!
URL:https://craftandfound.com/calendar/di-fundraiser-kinusaiga-decorative-ball-class-2/
LOCATION:Craft and Found Exchange\, Rum Brook Place * 249 Rt 10 N\, Grantham\, NH\, 03753\, United States
CATEGORIES:Paid Class
END:VEVENT
BEGIN:VEVENT
DTSTART;TZID=America/New_York:20260509T133000
DTEND;TZID=America/New_York:20260509T153000
DTSTAMP:20260423T170348
CREATED:20260416T160251Z
LAST-MODIFIED:20260416T160251Z
UID:1303-1778333400-1778340600@craftandfound.com
SUMMARY:Private Event: Birthday Party
DESCRIPTION:We will be hosting a birthday party in the workshop! The store will still be open our normal hours.
URL:https://craftandfound.com/calendar/private-event-birthday-party/
LOCATION:Craft and Found Exchange\, Rum Brook Place * 249 Rt 10 N\, Grantham\, NH\, 03753\, United States
CATEGORIES:Private Event
END:VEVENT
BEGIN:VEVENT
DTSTART;TZID=America/New_York:20260516T103000
DTEND;TZID=America/New_York:20260516T120000
DTSTAMP:20260423T170348
CREATED:20260409T160216Z
LAST-MODIFIED:20260409T160216Z
UID:1280-1778927400-1778932800@craftandfound.com
SUMMARY:Felted Soap Class
DESCRIPTION:Paid Class\, Registration Required \nHead here for more information and to register for this class!
URL:https://craftandfound.com/calendar/felted-soap-class-3/
LOCATION:Craft and Found Exchange\, Rum Brook Place * 249 Rt 10 N\, Grantham\, NH\, 03753\, United States
END:VEVENT
BEGIN:VEVENT
DTSTART;TZID=America/New_York:20260517T150000
DTEND;TZID=America/New_York:20260517T173000
DTSTAMP:20260423T170348
CREATED:20260409T154832Z
LAST-MODIFIED:20260409T154832Z
UID:1275-1779030000-1779039000@craftandfound.com
SUMMARY:Kinusaiga Class
DESCRIPTION:Paid Class\, Registration Required \nHead here for more information and to register for this class!
URL:https://craftandfound.com/calendar/kinusaiga-class-4/
LOCATION:Craft and Found Exchange\, Rum Brook Place * 249 Rt 10 N\, Grantham\, NH\, 03753\, United States
CATEGORIES:Paid Class
END:VEVENT
BEGIN:VEVENT
DTSTART;TZID=America/New_York:20260530T100000
DTEND;TZID=America/New_York:20260530T180000
DTSTAMP:20260423T170348
CREATED:20260314T220157Z
LAST-MODIFIED:20260409T161037Z
UID:1236-1780135200-1780164000@craftandfound.com
SUMMARY:CLOSED for Eastman Arts and Crafts Fair
DESCRIPTION:We will be CLOSED today. Come find us\, and other local artists and crafters\, at the Eastman Arts and Crafts Fair held at the South Cove Activity Center in Eastman!
URL:https://craftandfound.com/calendar/closed-for-eastman-arts-and-crafts-fair/
LOCATION:Craft and Found Exchange\, Rum Brook Place * 249 Rt 10 N\, Grantham\, NH\, 03753\, United States
END:VEVENT
BEGIN:VEVENT
DTSTART;TZID=America/New_York:20260620T150000
DTEND;TZID=America/New_York:20260620T170000
DTSTAMP:20260423T170348
CREATED:20260314T215901Z
LAST-MODIFIED:20260328T202518Z
UID:1232-1781967600-1781974800@craftandfound.com
SUMMARY:Tarot and Tea
DESCRIPTION:Welcome Summer and join us for a Tarot Tea Party! We will have tarot cards\, oracle cards\, tea\, snacks\, good company\, and a fun craft. This event will take the shape of an informal gathering of people excited to explore tarot together. No prior experience is necessary. \nClick here to register for this event. \nPlease note: There will not be a formal trained Tarot Reader present nor will there be formal readings at this event. This is more of a time for exploration and community.
URL:https://craftandfound.com/calendar/tarot-and-tea/
LOCATION:Craft and Found Exchange\, Rum Brook Place * 249 Rt 10 N\, Grantham\, NH\, 03753\, United States
END:VEVENT
BEGIN:VEVENT
DTSTART;TZID=America/New_York:20260920T150000
DTEND;TZID=America/New_York:20260920T170000
DTSTAMP:20260423T170348
CREATED:20260314T220022Z
LAST-MODIFIED:20260314T220022Z
UID:1234-1789916400-1789923600@craftandfound.com
SUMMARY:Tarot and Tea
DESCRIPTION:Welcome Autumn and join us for a Tarot Tea Party! We will have tarot cards\, oracle cards\, tea\, snacks\, good company\, and a fun craft. This event will take the shape of an informal gathering of people excited to explore tarot together. No prior experience is necessary. \nWe are asking people to pre-register for this event. A registration link will be posted to the registration page closer to the event date. \nPlease note: There will not be a formal trained Tarot Reader present nor will there be formal readings at this event. This is more of a time for exploration and community.
URL:https://craftandfound.com/calendar/tarot-and-tea-2/
LOCATION:Craft and Found Exchange\, Rum Brook Place * 249 Rt 10 N\, Grantham\, NH\, 03753\, United States
END:VEVENT
BEGIN:VEVENT
DTSTART;TZID=America/New_York:20261220T150000
DTEND;TZID=America/New_York:20261220T170000
DTSTAMP:20260423T170348
CREATED:20260314T220449Z
LAST-MODIFIED:20260314T220449Z
UID:1238-1797778800-1797786000@craftandfound.com
SUMMARY:Tarot and Tea
DESCRIPTION:Welcome Winter and join us for a Tarot Tea Party! We will have tarot cards\, oracle cards\, tea\, snacks\, good company\, and a fun craft. This event will take the shape of an informal gathering of people excited to explore tarot together. No prior experience is necessary. \nWe are asking people to pre-register for this event. A registration link will be posted to the registration page closer to the event date. \nPlease note: There will not be a formal trained Tarot Reader present nor will there be formal readings at this event. This is more of a time for exploration and community.
URL:https://craftandfound.com/calendar/tarot-and-tea-3/
LOCATION:Craft and Found Exchange\, Rum Brook Place * 249 Rt 10 N\, Grantham\, NH\, 03753\, United States
END:VEVENT
END:VCALENDAR