BEGIN:VCALENDAR
VERSION:2.0
PRODID:-//Craft and Found Exchange - ECPv6.15.20//NONSGML v1.0//EN
CALSCALE:GREGORIAN
METHOD:PUBLISH
X-WR-CALNAME:Craft and Found Exchange
X-ORIGINAL-URL:https://craftandfound.com
X-WR-CALDESC:Events for Craft and Found Exchange
REFRESH-INTERVAL;VALUE=DURATION:PT1H
X-Robots-Tag:noindex
X-PUBLISHED-TTL:PT1H
BEGIN:VTIMEZONE
TZID:America/New_York
BEGIN:DAYLIGHT
TZOFFSETFROM:-0500
TZOFFSETTO:-0400
TZNAME:EDT
DTSTART:20230312T070000
END:DAYLIGHT
BEGIN:STANDARD
TZOFFSETFROM:-0400
TZOFFSETTO:-0500
TZNAME:EST
DTSTART:20231105T060000
END:STANDARD
BEGIN:DAYLIGHT
TZOFFSETFROM:-0500
TZOFFSETTO:-0400
TZNAME:EDT
DTSTART:20240310T070000
END:DAYLIGHT
BEGIN:STANDARD
TZOFFSETFROM:-0400
TZOFFSETTO:-0500
TZNAME:EST
DTSTART:20241103T060000
END:STANDARD
BEGIN:DAYLIGHT
TZOFFSETFROM:-0500
TZOFFSETTO:-0400
TZNAME:EDT
DTSTART:20250309T070000
END:DAYLIGHT
BEGIN:STANDARD
TZOFFSETFROM:-0400
TZOFFSETTO:-0500
TZNAME:EST
DTSTART:20251102T060000
END:STANDARD
BEGIN:DAYLIGHT
TZOFFSETFROM:-0500
TZOFFSETTO:-0400
TZNAME:EDT
DTSTART:20260308T070000
END:DAYLIGHT
BEGIN:STANDARD
TZOFFSETFROM:-0400
TZOFFSETTO:-0500
TZNAME:EST
DTSTART:20261101T060000
END:STANDARD
END:VTIMEZONE
BEGIN:VEVENT
DTSTART;TZID=America/New_York:20250201T150000
DTEND;TZID=America/New_York:20250201T170000
DTSTAMP:20260424T082244
CREATED:20241129T185854Z
LAST-MODIFIED:20241228T212134Z
UID:161-1738422000-1738429200@craftandfound.com
SUMMARY:Saturday Crafternoon
DESCRIPTION:Free drop in event \nJoin us on the first Saturday of the month for Crafternoon… bring your WIP’s\, bring your craftastrophes\, bring your craftersblock\, bring your questions about what the heck a WIP is. We welcome it all. We’ll just be here… maybe crafting\, maybe just talking about Agatha All Along. \nStore will be open our regular hours for shopping. \n(Pro-tip: swing by Rum Brook Market and grab a rotisserie chicken afterwards and BOOM\, dinner.)
URL:https://craftandfound.com/calendar/saturday-crafternoon-2/
LOCATION:Craft and Found Exchange\, Rum Brook Place * 249 Rt 10 N\, Grantham\, NH\, 03753\, United States
CATEGORIES:Drop-in,Free event,Monthly event
END:VEVENT
BEGIN:VEVENT
DTSTART;TZID=America/New_York:20250125T140000
DTEND;TZID=America/New_York:20250125T170000
DTSTAMP:20260424T082244
CREATED:20241129T190553Z
LAST-MODIFIED:20241228T212146Z
UID:165-1737813600-1737824400@craftandfound.com
SUMMARY:LEGO Swap
DESCRIPTION:Free drop in event \nEvery 4th Saturday of the month\, we will host a free LEGO swap. Bring a set you no longer want\, trade it for a set you want. Any sets left at the end of the day will be held until next months swap. \nThe shop will be open for shopping for our normal Saturday hours during this event. \nCraft and Found does not manage or monitor the swaps or value of sets during this event. We are simply hosting the space. The intention of this event is to promote community\, sharing\, joy\, and to reduce waste. 
URL:https://craftandfound.com/calendar/lego-swap/
LOCATION:Craft and Found Exchange\, Rum Brook Place * 249 Rt 10 N\, Grantham\, NH\, 03753\, United States
CATEGORIES:Drop-in,Free event,Monthly event
END:VEVENT
BEGIN:VEVENT
DTSTART;TZID=America/New_York:20250124T110000
DTEND;TZID=America/New_York:20250124T160000
DTSTAMP:20260424T082244
CREATED:20241228T214456Z
LAST-MODIFIED:20241228T214456Z
UID:283-1737716400-1737734400@craftandfound.com
SUMMARY:Rocky Horror Picture Craft
DESCRIPTION:Free drop-in community event \nBrad! Janet! Rocky! \nIn antici….pation of the Lebanon Opera House screening of Rocky Horror Picture Show\, we will be crafting some delightful RHPS inspired creations. Just like Dr. Frank N Furter created Rocky\, we will create something equally unhinged and perhaps beautiful. Whether you’re a Magenta\, a Brad\, a Janet\, a Riff Raff\, or a Columbia… we will have something even The Criminologist would love. \nThe fun starts Friday but I imagine we will Time Warp this event into Saturday as well.
URL:https://craftandfound.com/calendar/rocky-horror-picture-craft/
LOCATION:Craft and Found Exchange\, Rum Brook Place * 249 Rt 10 N\, Grantham\, NH\, 03753\, United States
CATEGORIES:Drop-in,Free event
END:VEVENT
BEGIN:VEVENT
DTSTART;TZID=America/New_York:20250120T093000
DTEND;TZID=America/New_York:20250120T110000
DTSTAMP:20260424T082244
CREATED:20241228T211818Z
LAST-MODIFIED:20250106T204450Z
UID:276-1737365400-1737370800@craftandfound.com
SUMMARY:No-Sew Pillow Class
DESCRIPTION:Paid Class\, Pre-Registration Required  \nHead here to register for this class! \nThis class is designed for kids ages 8+. Kids should be able to work independently on a project with basic instruction and support. \nDay off from school?? Come create your own no-sew pillow!! \nAll materials and instruction will be provided. \nCaregivers are welcome to stay but materials are only available for registered participants. Caregivers who drop off should plan to leave contact information and pick up by 11am.
URL:https://craftandfound.com/calendar/no-sew-pillow-class/
LOCATION:Craft and Found Exchange\, Rum Brook Place * 249 Rt 10 N\, Grantham\, NH\, 03753\, United States
CATEGORIES:Paid Class
ATTACH;FMTTYPE=image/jpeg:https://craftandfound.com/wp-content/uploads/2024/12/nosewpillows.jpeg
END:VEVENT
BEGIN:VEVENT
DTSTART;TZID=America/New_York:20250119T130000
DTEND;TZID=America/New_York:20250119T150000
DTSTAMP:20260424T082244
CREATED:20241228T194308Z
LAST-MODIFIED:20250106T204529Z
UID:238-1737291600-1737298800@craftandfound.com
SUMMARY:Reusable Food Wrap Class
DESCRIPTION:Paid Class\, Pre-Registration Required \nHead here to register for this class!  \nLearn how to make reusable and sustainable food wraps using reclaimed cotton fabric and local beeswax. \nYou will leave class with at least 3 pieces of beeswax food wrap. You get to customize your creations: from fabric pattern to size to optional button closures. \nAll materials and instructions provided. There will be tea and water provided. \nRecommended age: 12+
URL:https://craftandfound.com/calendar/reusable-food-wrap-class/
LOCATION:Craft and Found Exchange\, Rum Brook Place * 249 Rt 10 N\, Grantham\, NH\, 03753\, United States
CATEGORIES:Paid Class
ATTACH;FMTTYPE=image/jpeg:https://craftandfound.com/wp-content/uploads/2024/12/bee-wrap-2.jpg
END:VEVENT
BEGIN:VEVENT
DTSTART;TZID=America/New_York:20250111T150000
DTEND;TZID=America/New_York:20250111T170000
DTSTAMP:20260424T082244
CREATED:20241228T193611Z
LAST-MODIFIED:20250106T204559Z
UID:210-1736607600-1736614800@craftandfound.com
SUMMARY:Macrame Plant Hanger Class
DESCRIPTION:Paid Class\, Pre-Registration Required \nHead here to register for this class! \nLearn basic macrame skills and knots\, as well as tips and tricks to make macrame easy. We will be creating macrame plant hangers to take home. \nThis will also be a plant adoption event! Choose a baby prayer plant or spider plant to take home and live happily in your new plant hanger. \nAll materials\, including plants\, are provided. Tea and water will also be provided. \nRecommended age: 12+
URL:https://craftandfound.com/calendar/macrame-plant-hanger-class/
LOCATION:Craft and Found Exchange\, Rum Brook Place * 249 Rt 10 N\, Grantham\, NH\, 03753\, United States
CATEGORIES:Paid Class
ATTACH;FMTTYPE=image/jpeg:https://craftandfound.com/wp-content/uploads/2024/12/IMG_5078-1.jpg
END:VEVENT
BEGIN:VEVENT
DTSTART;TZID=America/New_York:20250105T160000
DTEND;TZID=America/New_York:20250105T180000
DTSTAMP:20260424T082244
CREATED:20241129T191931Z
LAST-MODIFIED:20241228T212229Z
UID:142-1736092800-1736100000@craftandfound.com
SUMMARY:Awards for Adulting
DESCRIPTION:Free Event for Adults\, Pre-Registration Requested – (class limited to 8 participants) \nInstead of a ribbon cutting\, join me for a ribbon creating! \nWhen was the last time you got an award ribbon? 6th Grade Science Fair? Little League? Well\, Adults\, it’s about time we got some recognition for things like: \n\n“Didn’t Reply All”\n“Survived Bedtime”\n“Bossed Up and Cried About It – Contains Multitudes”\n“Gave Up But Kept Going”\n“Tried My Best”\n“Didn’t Please Everyone”\n\nWe will have materials and inspiration to make your very own Adulting Awards. Light snacks and drinks provided. \nThis class is intended for adults. \nPlease enable JavaScript in your browser to complete this form.Please enable JavaScript in your browser to complete this form.Name *FirstLastEmail *		\n			hear did or\n			\n		\n		How did you hear about this event?Craft and Found WebsiteInstagramSignage at the storeWord of mouthThe ShopperOtherAny comments or questions?Submit
URL:https://craftandfound.com/calendar/awards-for-adulting/
LOCATION:Craft and Found Exchange\, Rum Brook Place * 249 Rt 10 N\, Grantham\, NH\, 03753\, United States
CATEGORIES:Free event
END:VEVENT
BEGIN:VEVENT
DTSTART;TZID=America/New_York:20250104T150000
DTEND;TZID=America/New_York:20250104T170000
DTSTAMP:20260424T082244
CREATED:20241127T010310Z
LAST-MODIFIED:20241228T212241Z
UID:154-1736002800-1736010000@craftandfound.com
SUMMARY:Saturday Crafternoon
DESCRIPTION:Free drop in event \nJoin us on the first Saturday of the month for Crafternoon… bring your WIP’s\, bring your craftastrophes\, bring your craftersblock\, bring your questions about what the heck a WIP is. We welcome it all. We’ll just be here… maybe crafting\, maybe just talking about Agatha All Along. \nStore will be open our regular hours for shopping. \n(Pro-tip: swing by Rum Brook Market and grab a rotisserie chicken afterwards and BOOM\, dinner.)
URL:https://craftandfound.com/calendar/saturday-crafternoon/
LOCATION:Craft and Found Exchange\, Rum Brook Place * 249 Rt 10 N\, Grantham\, NH\, 03753\, United States
CATEGORIES:Drop-in,Free event,Monthly event
END:VEVENT
BEGIN:VEVENT
DTSTART;TZID=America/New_York:20241227T110000
DTEND;TZID=America/New_York:20241227T140000
DTSTAMP:20260424T082244
CREATED:20241126T125425Z
LAST-MODIFIED:20241228T212249Z
UID:134-1735297200-1735308000@craftandfound.com
SUMMARY:New Year's Noise Makers - drop in
DESCRIPTION:Free Family Event \nNew Year\, New Noise! Get the kids out of the house and let them make a mess in the shop instead! Materials will be available to make New Year’s Noise Makers. This is a drop in event so come any time but we do ask that a parent or caregiver stay with anyone under 16.
URL:https://craftandfound.com/calendar/new-years-noise-makers/
LOCATION:Craft and Found Exchange\, Rum Brook Place * 249 Rt 10 N\, Grantham\, NH\, 03753\, United States
CATEGORIES:Drop-in
END:VEVENT
BEGIN:VEVENT
DTSTART;TZID=America/New_York:20241221T110000
DTEND;TZID=America/New_York:20241221T150000
DTSTAMP:20260424T082244
CREATED:20241123T155944Z
LAST-MODIFIED:20241228T212257Z
UID:81-1734778800-1734793200@craftandfound.com
SUMMARY:Card (making) for Humanity - drop in
DESCRIPTION:Free Family Event \nCelebrate the opening of the Craft and Found Exchange with a free family drop in event. \nCome see the space and find out what we have to offer! \nSupplies will be available to make cards; make a card to take to send someone you love and leave a card to be sent to a community organization. This is a drop in event so come any time but we do ask that a parent or caregiver stay with anyone under 16.
URL:https://craftandfound.com/calendar/cards-for-humans-drop-in/
LOCATION:Craft and Found Exchange\, Rum Brook Place * 249 Rt 10 N\, Grantham\, NH\, 03753\, United States
CATEGORIES:Drop-in
END:VEVENT
BEGIN:VEVENT
DTSTART;TZID=America/New_York:20241220T100000
DTEND;TZID=America/New_York:20241220T140000
DTSTAMP:20260424T082244
CREATED:20241123T163859Z
LAST-MODIFIED:20241123T163859Z
UID:107-1734688800-1734703200@craftandfound.com
SUMMARY:Donation Drop Off
DESCRIPTION:We will be accepting donations of gently used craft supplies as we set up the shop and get ready for our grand opening! \nSee our What We Accept page for information about the types of supplies we accept. \nPlease note\, we will not be open for shopping during these hours. Stay tuned for our soft opening later this month!
URL:https://craftandfound.com/calendar/donation-drop-off-5/
LOCATION:Craft and Found Exchange\, Rum Brook Place * 249 Rt 10 N\, Grantham\, NH\, 03753\, United States
END:VEVENT
BEGIN:VEVENT
DTSTART;TZID=America/New_York:20241219T100000
DTEND;TZID=America/New_York:20241219T140000
DTSTAMP:20260424T082244
CREATED:20241123T163824Z
LAST-MODIFIED:20241123T163824Z
UID:105-1734602400-1734616800@craftandfound.com
SUMMARY:Donation Drop Off
DESCRIPTION:We will be accepting donations of gently used craft supplies as we set up the shop and get ready for our grand opening! \nSee our What We Accept page for information about the types of supplies we accept. \nPlease note\, we will not be open for shopping during these hours. Stay tuned for our soft opening later this month!
URL:https://craftandfound.com/calendar/donation-drop-off-4/
LOCATION:Craft and Found Exchange\, Rum Brook Place * 249 Rt 10 N\, Grantham\, NH\, 03753\, United States
END:VEVENT
BEGIN:VEVENT
DTSTART;TZID=America/New_York:20241214T100000
DTEND;TZID=America/New_York:20241214T140000
DTSTAMP:20260424T082244
CREATED:20241123T163636Z
LAST-MODIFIED:20241123T163711Z
UID:103-1734170400-1734184800@craftandfound.com
SUMMARY:Donation Drop Off
DESCRIPTION:We will be accepting donations of gently used craft supplies as we set up the shop and get ready for our grand opening! \nSee our What We Accept page for information about the types of supplies we accept. \nPlease note\, we will not be open for shopping during these hours. Stay tuned for our soft opening later this month!
URL:https://craftandfound.com/calendar/donation-drop-off-3/
LOCATION:Craft and Found Exchange\, Rum Brook Place * 249 Rt 10 N\, Grantham\, NH\, 03753\, United States
END:VEVENT
BEGIN:VEVENT
DTSTART;TZID=America/New_York:20241213T100000
DTEND;TZID=America/New_York:20241213T140000
DTSTAMP:20260424T082244
CREATED:20241123T163553Z
LAST-MODIFIED:20241123T163553Z
UID:101-1734084000-1734098400@craftandfound.com
SUMMARY:Donation Drop Off
DESCRIPTION:We will be accepting donations of gently used craft supplies as we set up the shop and get ready for our grand opening! \nSee our What We Accept page for information about the types of supplies we accept. \nPlease note\, we will not be open for shopping during these hours. Stay tuned for our soft opening later this month!
URL:https://craftandfound.com/calendar/donation-drop-off-2/
LOCATION:Craft and Found Exchange\, Rum Brook Place * 249 Rt 10 N\, Grantham\, NH\, 03753\, United States
END:VEVENT
BEGIN:VEVENT
DTSTART;TZID=America/New_York:20241212T100000
DTEND;TZID=America/New_York:20241212T140000
DTSTAMP:20260424T082244
CREATED:20241123T162735Z
LAST-MODIFIED:20241123T162735Z
UID:95-1733997600-1734012000@craftandfound.com
SUMMARY:Donation Drop Off
DESCRIPTION:We will be accepting donations of gently used craft supplies as we set up the shop and get ready for our grand opening! \nSee our What We Accept page for information about the types of supplies we accept. \nPlease note\, we will not be open for shopping during these hours. Stay tuned for our soft opening later this month!
URL:https://craftandfound.com/calendar/donation-drop-off/
LOCATION:Craft and Found Exchange\, Rum Brook Place * 249 Rt 10 N\, Grantham\, NH\, 03753\, United States
END:VEVENT
END:VCALENDAR