BEGIN:VCALENDAR
VERSION:2.0
PRODID:-//Craft and Found Exchange - ECPv6.15.20//NONSGML v1.0//EN
CALSCALE:GREGORIAN
METHOD:PUBLISH
X-WR-CALNAME:Craft and Found Exchange
X-ORIGINAL-URL:https://craftandfound.com
X-WR-CALDESC:Events for Craft and Found Exchange
REFRESH-INTERVAL;VALUE=DURATION:PT1H
X-Robots-Tag:noindex
X-PUBLISHED-TTL:PT1H
BEGIN:VTIMEZONE
TZID:America/New_York
BEGIN:DAYLIGHT
TZOFFSETFROM:-0500
TZOFFSETTO:-0400
TZNAME:EDT
DTSTART:20240310T070000
END:DAYLIGHT
BEGIN:STANDARD
TZOFFSETFROM:-0400
TZOFFSETTO:-0500
TZNAME:EST
DTSTART:20241103T060000
END:STANDARD
BEGIN:DAYLIGHT
TZOFFSETFROM:-0500
TZOFFSETTO:-0400
TZNAME:EDT
DTSTART:20250309T070000
END:DAYLIGHT
BEGIN:STANDARD
TZOFFSETFROM:-0400
TZOFFSETTO:-0500
TZNAME:EST
DTSTART:20251102T060000
END:STANDARD
BEGIN:DAYLIGHT
TZOFFSETFROM:-0500
TZOFFSETTO:-0400
TZNAME:EDT
DTSTART:20260308T070000
END:DAYLIGHT
BEGIN:STANDARD
TZOFFSETFROM:-0400
TZOFFSETTO:-0500
TZNAME:EST
DTSTART:20261101T060000
END:STANDARD
BEGIN:DAYLIGHT
TZOFFSETFROM:-0500
TZOFFSETTO:-0400
TZNAME:EDT
DTSTART:20270314T070000
END:DAYLIGHT
BEGIN:STANDARD
TZOFFSETFROM:-0400
TZOFFSETTO:-0500
TZNAME:EST
DTSTART:20271107T060000
END:STANDARD
END:VTIMEZONE
BEGIN:VEVENT
DTSTART;TZID=America/New_York:20260110T103000
DTEND;TZID=America/New_York:20260110T123000
DTSTAMP:20260423T182321
CREATED:20260102T220657Z
LAST-MODIFIED:20260102T220657Z
UID:1079-1768041000-1768048200@craftandfound.com
SUMMARY:Punch Needle Mug Rug
DESCRIPTION:Paid Class\, Registration Required \nHead here to register for this class!
URL:https://craftandfound.com/calendar/punch-needle-mug-rug/
LOCATION:Craft and Found Exchange\, Rum Brook Place * 249 Rt 10 N\, Grantham\, NH\, 03753\, United States
CATEGORIES:Paid Class
END:VEVENT
BEGIN:VEVENT
DTSTART;TZID=America/New_York:20251229T110000
DTEND;TZID=America/New_York:20251229T130000
DTSTAMP:20260423T182321
CREATED:20251122T130024Z
LAST-MODIFIED:20251122T130024Z
UID:998-1767006000-1767013200@craftandfound.com
SUMMARY:Crafty Kids Event - Spin Drums
DESCRIPTION:We will be in the workshop making New Year’s Eve Spin Drums! Drop by and get ready to bring in the New Year!
URL:https://craftandfound.com/calendar/crafty-kids-event-spin-drums/
LOCATION:Craft and Found Exchange\, Rum Brook Place * 249 Rt 10 N\, Grantham\, NH\, 03753\, United States
CATEGORIES:Drop-in
END:VEVENT
BEGIN:VEVENT
DTSTART;TZID=America/New_York:20251227T100000
DTEND;TZID=America/New_York:20251227T180000
DTSTAMP:20260423T182321
CREATED:20251122T125538Z
LAST-MODIFIED:20251122T125538Z
UID:995-1766829600-1766858400@craftandfound.com
SUMMARY:Store Closed
DESCRIPTION:We will be closed for a mini-holiday break from Dec 25-Dec 28. We will reopen on Dec 29th
URL:https://craftandfound.com/calendar/store-closed-4/
LOCATION:Craft and Found Exchange\, Rum Brook Place * 249 Rt 10 N\, Grantham\, NH\, 03753\, United States
END:VEVENT
BEGIN:VEVENT
DTSTART;TZID=America/New_York:20251226T100000
DTEND;TZID=America/New_York:20251226T180000
DTSTAMP:20260423T182321
CREATED:20251122T125511Z
LAST-MODIFIED:20251122T125511Z
UID:993-1766743200-1766772000@craftandfound.com
SUMMARY:Store Closed
DESCRIPTION:We will be closed for a mini-holiday break from Dec 25-Dec 28. We will reopen on Dec 29th
URL:https://craftandfound.com/calendar/store-closed-3/
LOCATION:Craft and Found Exchange\, Rum Brook Place * 249 Rt 10 N\, Grantham\, NH\, 03753\, United States
END:VEVENT
BEGIN:VEVENT
DTSTART;TZID=America/New_York:20251225T100000
DTEND;TZID=America/New_York:20251225T140000
DTSTAMP:20260423T182321
CREATED:20251122T125429Z
LAST-MODIFIED:20251122T125429Z
UID:991-1766656800-1766671200@craftandfound.com
SUMMARY:Store Closed
DESCRIPTION:We will be closed for a mini-holiday break from Dec 25-Dec 28. We will reopen on Dec 29th.
URL:https://craftandfound.com/calendar/store-closed-2/
LOCATION:Craft and Found Exchange\, Rum Brook Place * 249 Rt 10 N\, Grantham\, NH\, 03753\, United States
END:VEVENT
BEGIN:VEVENT
DTSTART;TZID=America/New_York:20251221T110000
DTEND;TZID=America/New_York:20251221T123000
DTSTAMP:20260423T182321
CREATED:20251122T100043Z
LAST-MODIFIED:20251122T100043Z
UID:985-1766314800-1766320200@craftandfound.com
SUMMARY:Decoupage Candle Jars Class
DESCRIPTION:Paid Class\, Registration Required \nHead here to register for this class!
URL:https://craftandfound.com/calendar/decoupage-candle-jars-class/
LOCATION:Craft and Found Exchange\, Rum Brook Place * 249 Rt 10 N\, Grantham\, NH\, 03753\, United States
CATEGORIES:Paid Class
END:VEVENT
BEGIN:VEVENT
DTSTART;TZID=America/New_York:20251220T100000
DTEND;TZID=America/New_York:20251220T123000
DTSTAMP:20260423T182321
CREATED:20251122T095927Z
LAST-MODIFIED:20251122T095927Z
UID:983-1766224800-1766233800@craftandfound.com
SUMMARY:Zentangle Class
DESCRIPTION:Paid Class\, Registration Required \nHead here to register for this class!
URL:https://craftandfound.com/calendar/zentangle-class-3/
LOCATION:Craft and Found Exchange\, Rum Brook Place * 249 Rt 10 N\, Grantham\, NH\, 03753\, United States
CATEGORIES:Paid Class
END:VEVENT
BEGIN:VEVENT
DTSTART;TZID=America/New_York:20251213T100000
DTEND;TZID=America/New_York:20251213T133000
DTSTAMP:20260423T182321
CREATED:20251025T220302Z
LAST-MODIFIED:20251025T220302Z
UID:957-1765620000-1765632600@craftandfound.com
SUMMARY:Handle Basket Making Class
DESCRIPTION:Paid Class\, Registration Required \nHead here to register for this class!
URL:https://craftandfound.com/calendar/handle-basket-making-class/
LOCATION:Craft and Found Exchange\, Rum Brook Place * 249 Rt 10 N\, Grantham\, NH\, 03753\, United States
CATEGORIES:Paid Class
END:VEVENT
BEGIN:VEVENT
DTSTART;TZID=America/New_York:20251211T100000
DTEND;TZID=America/New_York:20251211T120000
DTSTAMP:20260423T182321
CREATED:20251209T011104Z
LAST-MODIFIED:20251209T011104Z
UID:1041-1765447200-1765454400@craftandfound.com
SUMMARY:Closing Early
DESCRIPTION:Shop hours will be 10am – 12pm today.
URL:https://craftandfound.com/calendar/closing-early/
LOCATION:Craft and Found Exchange\, Rum Brook Place * 249 Rt 10 N\, Grantham\, NH\, 03753\, United States
END:VEVENT
BEGIN:VEVENT
DTSTART;TZID=America/New_York:20251207T110000
DTEND;TZID=America/New_York:20251207T123000
DTSTAMP:20260423T182321
CREATED:20251025T220344Z
LAST-MODIFIED:20251206T223741Z
UID:959-1765105200-1765110600@craftandfound.com
SUMMARY:Canceled - Reusable Food Wrap Class
DESCRIPTION:Please note\, this class has been canceled and will be rescheduled at a later date.
URL:https://craftandfound.com/calendar/reusable-food-wrap-class-3/
LOCATION:Craft and Found Exchange\, Rum Brook Place * 249 Rt 10 N\, Grantham\, NH\, 03753\, United States
CATEGORIES:Paid Class
END:VEVENT
BEGIN:VEVENT
DTSTART;TZID=America/New_York:20251206T140000
DTEND;TZID=America/New_York:20251206T170000
DTSTAMP:20260423T182321
CREATED:20251122T101443Z
LAST-MODIFIED:20251122T101443Z
UID:989-1765029600-1765040400@craftandfound.com
SUMMARY:Crafternoon
DESCRIPTION:Free drop in event\n\n\n\nJoin us on the first Saturday of the month for Crafternoon… bring your WIP’s\, bring your craftastrophes\, bring your craftersblock\, bring your questions about what the heck a WIP is. We welcome it all. We’ll just be here… maybe crafting\, maybe just talking about Agatha All Along. \nStore will be open our regular hours for shopping. \n(Pro-tip: swing by Rum Brook Market and grab a rotisserie chicken afterwards and BOOM\, dinner.)
URL:https://craftandfound.com/calendar/crafternoon-8/
LOCATION:Craft and Found Exchange\, Rum Brook Place * 249 Rt 10 N\, Grantham\, NH\, 03753\, United States
CATEGORIES:Drop-in,Free event,Monthly event
END:VEVENT
BEGIN:VEVENT
DTSTART;TZID=America/New_York:20251206T103000
DTEND;TZID=America/New_York:20251206T120000
DTSTAMP:20260423T182321
CREATED:20251122T095711Z
LAST-MODIFIED:20251122T095711Z
UID:981-1765017000-1765022400@craftandfound.com
SUMMARY:Felted Soap Class
DESCRIPTION:Paid Class\, Registration Required \nHead here to register for this class!
URL:https://craftandfound.com/calendar/felted-soap-class/
LOCATION:Craft and Found Exchange\, Rum Brook Place * 249 Rt 10 N\, Grantham\, NH\, 03753\, United States
CATEGORIES:Paid Class
END:VEVENT
BEGIN:VEVENT
DTSTART;TZID=America/New_York:20251130T150000
DTEND;TZID=America/New_York:20251130T170000
DTSTAMP:20260423T182321
CREATED:20251025T214901Z
LAST-MODIFIED:20251025T214901Z
UID:953-1764514800-1764522000@craftandfound.com
SUMMARY:Felted Bowls Class
DESCRIPTION:Paid Class\, Registration Required \nHead here to register for this class!
URL:https://craftandfound.com/calendar/felted-bowls-class/
LOCATION:Craft and Found Exchange\, Rum Brook Place * 249 Rt 10 N\, Grantham\, NH\, 03753\, United States
CATEGORIES:Paid Class
END:VEVENT
BEGIN:VEVENT
DTSTART;TZID=America/New_York:20251129T100000
DTEND;TZID=America/New_York:20251129T180000
DTSTAMP:20260423T182321
CREATED:20251025T215048Z
LAST-MODIFIED:20251025T215048Z
UID:955-1764410400-1764439200@craftandfound.com
SUMMARY:Ornament Making Drop In
DESCRIPTION:Join us to celebrate Small Business Saturday! We will have ideas and supplies out in the workshop to make your own holiday ornaments plus some surprise sales in the shop!
URL:https://craftandfound.com/calendar/ornament-making-drop-in/
LOCATION:Craft and Found Exchange\, Rum Brook Place * 249 Rt 10 N\, Grantham\, NH\, 03753\, United States
CATEGORIES:Drop-in,Free event
END:VEVENT
BEGIN:VEVENT
DTSTART;TZID=America/New_York:20251128T170000
DTEND;TZID=America/New_York:20251128T180000
DTSTAMP:20260423T182321
CREATED:20251004T180123Z
LAST-MODIFIED:20251004T180123Z
UID:932-1764349200-1764352800@craftandfound.com
SUMMARY:Macrame Fridays: Trees
DESCRIPTION:Macrame Fridays in our Handmade Holiday Gifts series \nPaid Class\, Registration Required \nHead here to register for this class!
URL:https://craftandfound.com/calendar/macrame-fridays-trees/
LOCATION:Craft and Found Exchange\, Rum Brook Place * 249 Rt 10 N\, Grantham\, NH\, 03753\, United States
CATEGORIES:Paid Class
END:VEVENT
BEGIN:VEVENT
DTSTART;TZID=America/New_York:20251127T100000
DTEND;TZID=America/New_York:20251127T180000
DTSTAMP:20260423T182321
CREATED:20251025T214812Z
LAST-MODIFIED:20251025T214812Z
UID:951-1764237600-1764266400@craftandfound.com
SUMMARY:Store Closed
DESCRIPTION:We will be closed for Thanksgiving! See you for Black Friday and Small Business Saturday!
URL:https://craftandfound.com/calendar/store-closed/
LOCATION:Craft and Found Exchange\, Rum Brook Place * 249 Rt 10 N\, Grantham\, NH\, 03753\, United States
END:VEVENT
BEGIN:VEVENT
DTSTART;TZID=America/New_York:20251122T100000
DTEND;TZID=America/New_York:20251122T140000
DTSTAMP:20260423T182321
CREATED:20251004T175443Z
LAST-MODIFIED:20251004T175443Z
UID:922-1763805600-1763820000@craftandfound.com
SUMMARY:Youth Holiday Craft Fair
DESCRIPTION:Join us for a craft fair highlighting our youngest and most enthusiastic makers! All vendors are makers and crafters age 16 and under. \nInformation about being a vendor can be found here.
URL:https://craftandfound.com/calendar/youth-holiday-craft-fair/
LOCATION:Craft and Found Exchange\, Rum Brook Place * 249 Rt 10 N\, Grantham\, NH\, 03753\, United States
CATEGORIES:Free event
END:VEVENT
BEGIN:VEVENT
DTSTART;TZID=America/New_York:20251121T170000
DTEND;TZID=America/New_York:20251121T180000
DTSTAMP:20260423T182321
CREATED:20251004T180042Z
LAST-MODIFIED:20251004T180042Z
UID:930-1763744400-1763748000@craftandfound.com
SUMMARY:Macrame Fridays: Pendants
DESCRIPTION:Macrame Fridays in our Handmade Holiday Gifts series \nPaid Class\, Registration Required \nHead here to register for this class!
URL:https://craftandfound.com/calendar/macrame-fridays-pendants/
LOCATION:Craft and Found Exchange\, Rum Brook Place * 249 Rt 10 N\, Grantham\, NH\, 03753\, United States
CATEGORIES:Paid Class
END:VEVENT
BEGIN:VEVENT
DTSTART;TZID=America/New_York:20251115T100000
DTEND;TZID=America/New_York:20251115T130000
DTSTAMP:20260423T182321
CREATED:20251004T180230Z
LAST-MODIFIED:20251113T223007Z
UID:934-1763200800-1763211600@craftandfound.com
SUMMARY:Zentangle Cartouche Frames
DESCRIPTION:Paid Class\, Registration Required \nHead here to register for this class! \nIn this class\, you’ll learn a surprisingly easy way to do simple designs around a photo or other memorabilia to make a piece suitable for framing.\nYou’ll need to bring a photo or other keepsake no bigger than 3″ by 5″.\nBring more than one if you like\, to have a selection at class.\nAll other supplies will be provided.\nSee you in class for this fun project!
URL:https://craftandfound.com/calendar/zentangle/
LOCATION:Craft and Found Exchange\, Rum Brook Place * 249 Rt 10 N\, Grantham\, NH\, 03753\, United States
CATEGORIES:Monthly event,Paid Class
ATTACH;FMTTYPE=image/heic:https://craftandfound.com/wp-content/uploads/2025/04/Friend-framed.heic
END:VEVENT
BEGIN:VEVENT
DTSTART;TZID=America/New_York:20251114T170000
DTEND;TZID=America/New_York:20251114T180000
DTSTAMP:20260423T182321
CREATED:20251004T175954Z
LAST-MODIFIED:20251004T175954Z
UID:928-1763139600-1763143200@craftandfound.com
SUMMARY:Macrame Fridays: Mini Plant Hangers
DESCRIPTION:Macrame Fridays in our Handmade Holiday Gifts series \nPaid Class\, Registration Required \nHead here to register for this class!
URL:https://craftandfound.com/calendar/macrame-fridays-mini-plant-hangers/
LOCATION:Craft and Found Exchange\, Rum Brook Place * 249 Rt 10 N\, Grantham\, NH\, 03753\, United States
CATEGORIES:Paid Class
END:VEVENT
BEGIN:VEVENT
DTSTART;TZID=America/New_York:20251111T110000
DTEND;TZID=America/New_York:20251111T120000
DTSTAMP:20260423T182321
CREATED:20251004T180430Z
LAST-MODIFIED:20251004T180957Z
UID:938-1762858800-1762862400@craftandfound.com
SUMMARY:LEGO Relief Printing
DESCRIPTION:Paid Class\, Registration Required \nHead here to register for this class!
URL:https://craftandfound.com/calendar/lego-printing-press/
LOCATION:Craft and Found Exchange\, Rum Brook Place * 249 Rt 10 N\, Grantham\, NH\, 03753\, United States
CATEGORIES:Paid Class
END:VEVENT
BEGIN:VEVENT
DTSTART;TZID=America/New_York:20251109T130000
DTEND;TZID=America/New_York:20251109T150000
DTSTAMP:20260423T182321
CREATED:20251004T170353Z
LAST-MODIFIED:20251004T170353Z
UID:909-1762693200-1762700400@craftandfound.com
SUMMARY:Handmade Holidays: Record Bowls
DESCRIPTION:Handmade Holidays Gift Making Series \nPaid Class\, Registration Required \nHead here to register for this class!
URL:https://craftandfound.com/calendar/handmade-holidays-record-bowls/
LOCATION:Craft and Found Exchange\, Rum Brook Place * 249 Rt 10 N\, Grantham\, NH\, 03753\, United States
CATEGORIES:Paid Class
END:VEVENT
BEGIN:VEVENT
DTSTART;TZID=America/New_York:20251107T170000
DTEND;TZID=America/New_York:20251107T180000
DTSTAMP:20260423T182321
CREATED:20251004T175824Z
LAST-MODIFIED:20251004T175824Z
UID:926-1762534800-1762538400@craftandfound.com
SUMMARY:Macrame Fridays: Wristlet
DESCRIPTION:Macrame Fridays in our Handmade Holiday Gifts series \nPaid Class\, Registration Required \nHead here to register for this class!
URL:https://craftandfound.com/calendar/macrame-fridays-wristlet/
LOCATION:Craft and Found Exchange\, Rum Brook Place * 249 Rt 10 N\, Grantham\, NH\, 03753\, United States
CATEGORIES:Paid Class
END:VEVENT
BEGIN:VEVENT
DTSTART;TZID=America/New_York:20251101T140000
DTEND;TZID=America/New_York:20251101T170000
DTSTAMP:20260423T182321
CREATED:20251004T175624Z
LAST-MODIFIED:20251004T175624Z
UID:924-1762005600-1762016400@craftandfound.com
SUMMARY:Crafternoon
DESCRIPTION:Free drop in event\n\n\n\nJoin us on the first Saturday of the month for Crafternoon… bring your WIP’s\, bring your craftastrophes\, bring your craftersblock\, bring your questions about what the heck a WIP is. We welcome it all. We’ll just be here… maybe crafting\, maybe just talking about Agatha All Along. \nStore will be open our regular hours for shopping. \n(Pro-tip: swing by Rum Brook Market and grab a rotisserie chicken afterwards and BOOM\, dinner.)
URL:https://craftandfound.com/calendar/crafternoon-7/
LOCATION:Craft and Found Exchange\, Rum Brook Place * 249 Rt 10 N\, Grantham\, NH\, 03753\, United States
CATEGORIES:Drop-in,Free event,Monthly event
END:VEVENT
BEGIN:VEVENT
DTSTART;TZID=America/New_York:20251101T100000
DTEND;TZID=America/New_York:20251101T130000
DTSTAMP:20260423T182321
CREATED:20250829T163842Z
LAST-MODIFIED:20250926T200415Z
UID:858-1761991200-1762002000@craftandfound.com
SUMMARY:Zentangle Class
DESCRIPTION:Paid Class\, Registration Required \nHead here to register for this class!
URL:https://craftandfound.com/calendar/zentangle-class-2/
LOCATION:Craft and Found Exchange\, Rum Brook Place * 249 Rt 10 N\, Grantham\, NH\, 03753\, United States
CATEGORIES:Paid Class
END:VEVENT
BEGIN:VEVENT
DTSTART;TZID=America/New_York:20251026T100000
DTEND;TZID=America/New_York:20251026T120000
DTSTAMP:20260423T182321
CREATED:20250829T164244Z
LAST-MODIFIED:20250829T164244Z
UID:868-1761472800-1761480000@craftandfound.com
SUMMARY:Crochet 102: Beyond the Basics
DESCRIPTION:Paid Class\, Registration Required \nHead here to register for this class!
URL:https://craftandfound.com/calendar/crochet-102-beyond-the-basics-2/
LOCATION:Craft and Found Exchange\, Rum Brook Place * 249 Rt 10 N\, Grantham\, NH\, 03753\, United States
CATEGORIES:Paid Class
END:VEVENT
BEGIN:VEVENT
DTSTART;TZID=America/New_York:20251025T100000
DTEND;TZID=America/New_York:20251025T120000
DTSTAMP:20260423T182321
CREATED:20250829T164155Z
LAST-MODIFIED:20250829T164155Z
UID:866-1761386400-1761393600@craftandfound.com
SUMMARY:Crochet 101: Learn to Crochet
DESCRIPTION:Paid Class\, Registration Required \nHead here to register for this class!
URL:https://craftandfound.com/calendar/crochet-101-learn-to-crochet-2/
LOCATION:Craft and Found Exchange\, Rum Brook Place * 249 Rt 10 N\, Grantham\, NH\, 03753\, United States
CATEGORIES:Paid Class
END:VEVENT
BEGIN:VEVENT
DTSTART;TZID=America/New_York:20251019T100000
DTEND;TZID=America/New_York:20251019T120000
DTSTAMP:20260423T182321
CREATED:20250829T164107Z
LAST-MODIFIED:20250829T173445Z
UID:864-1760868000-1760875200@craftandfound.com
SUMMARY:Macrame Market Bag Class
DESCRIPTION:Paid Class\, Registration Required \nHead here to register for this class!
URL:https://craftandfound.com/calendar/macrame-bag-class/
LOCATION:Craft and Found Exchange\, Rum Brook Place * 249 Rt 10 N\, Grantham\, NH\, 03753\, United States
CATEGORIES:Paid Class
END:VEVENT
BEGIN:VEVENT
DTSTART;TZID=America/New_York:20251013T110000
DTEND;TZID=America/New_York:20251013T120000
DTSTAMP:20260423T182321
CREATED:20250829T163926Z
LAST-MODIFIED:20250829T163926Z
UID:860-1760353200-1760356800@craftandfound.com
SUMMARY:Fall Sun Catcher Class
DESCRIPTION:Paid Class\, Registration Required \nHead here to register for this class!
URL:https://craftandfound.com/calendar/fall-sun-catcher-class/
LOCATION:Craft and Found Exchange\, Rum Brook Place * 249 Rt 10 N\, Grantham\, NH\, 03753\, United States
CATEGORIES:Paid Class
END:VEVENT
BEGIN:VEVENT
DTSTART;TZID=America/New_York:20251010T110000
DTEND;TZID=America/New_York:20251010T120000
DTSTAMP:20260423T182321
CREATED:20250829T163759Z
LAST-MODIFIED:20250829T173513Z
UID:856-1760094000-1760097600@craftandfound.com
SUMMARY:Fall Flickers Luminary Class
DESCRIPTION:Paid Class\, Registration Required \nHead here to register for this class!
URL:https://craftandfound.com/calendar/fall-luminary-class/
LOCATION:Craft and Found Exchange\, Rum Brook Place * 249 Rt 10 N\, Grantham\, NH\, 03753\, United States
CATEGORIES:Paid Class
END:VEVENT
END:VCALENDAR