BEGIN:VCALENDAR
VERSION:2.0
PRODID:-//Craft and Found Exchange - ECPv6.15.20//NONSGML v1.0//EN
CALSCALE:GREGORIAN
METHOD:PUBLISH
X-WR-CALNAME:Craft and Found Exchange
X-ORIGINAL-URL:https://craftandfound.com
X-WR-CALDESC:Events for Craft and Found Exchange
REFRESH-INTERVAL;VALUE=DURATION:PT1H
X-Robots-Tag:noindex
X-PUBLISHED-TTL:PT1H
BEGIN:VTIMEZONE
TZID:America/New_York
BEGIN:DAYLIGHT
TZOFFSETFROM:-0500
TZOFFSETTO:-0400
TZNAME:EDT
DTSTART:20240310T070000
END:DAYLIGHT
BEGIN:STANDARD
TZOFFSETFROM:-0400
TZOFFSETTO:-0500
TZNAME:EST
DTSTART:20241103T060000
END:STANDARD
BEGIN:DAYLIGHT
TZOFFSETFROM:-0500
TZOFFSETTO:-0400
TZNAME:EDT
DTSTART:20250309T070000
END:DAYLIGHT
BEGIN:STANDARD
TZOFFSETFROM:-0400
TZOFFSETTO:-0500
TZNAME:EST
DTSTART:20251102T060000
END:STANDARD
BEGIN:DAYLIGHT
TZOFFSETFROM:-0500
TZOFFSETTO:-0400
TZNAME:EDT
DTSTART:20260308T070000
END:DAYLIGHT
BEGIN:STANDARD
TZOFFSETFROM:-0400
TZOFFSETTO:-0500
TZNAME:EST
DTSTART:20261101T060000
END:STANDARD
END:VTIMEZONE
BEGIN:VEVENT
DTSTART;TZID=America/New_York:20250404T140000
DTEND;TZID=America/New_York:20250404T170000
DTSTAMP:20260425T105824
CREATED:20250320T182001Z
LAST-MODIFIED:20250320T182432Z
UID:507-1743775200-1743786000@craftandfound.com
SUMMARY:Free Community Event - Trivets and Cork Boards
DESCRIPTION:Stop by the workshop every Friday afternoon from 2pm-5pm in April to make a trivet or cork board! \nThis is a free drop-in community event. Come by to connect with other community members\, get crafty\, and repurpose some materials! \nAll materials will be out in the workshop. Bring nothing but yourself!
URL:https://craftandfound.com/calendar/free-drop-in-community-event-trivets-and-cork-boards/
LOCATION:Craft and Found Exchange\, Rum Brook Place * 249 Rt 10 N\, Grantham\, NH\, 03753\, United States
CATEGORIES:Drop-in,Free event
ATTACH;FMTTYPE=image/jpeg:https://craftandfound.com/wp-content/uploads/2025/03/IMG_5495-scaled.jpeg
END:VEVENT
BEGIN:VEVENT
DTSTART;TZID=America/New_York:20250405T140000
DTEND;TZID=America/New_York:20250405T170000
DTSTAMP:20260425T105824
CREATED:20250120T190449Z
LAST-MODIFIED:20250120T190449Z
UID:403-1743861600-1743872400@craftandfound.com
SUMMARY:Saturday Crafternoon
DESCRIPTION:Free drop in event \nJoin us on the first Saturday of the month for Crafternoon… bring your WIP’s\, bring your craftastrophes\, bring your craftersblock\, bring your questions about what the heck a WIP is. We welcome it all. We’ll just be here… maybe crafting\, maybe just talking about Agatha All Along. \nStore will be open our regular hours for shopping. \n(Pro-tip: swing by Rum Brook Market and grab a rotisserie chicken afterwards and BOOM\, dinner.)
URL:https://craftandfound.com/calendar/saturday-crafternoon-4/
LOCATION:Craft and Found Exchange\, Rum Brook Place * 249 Rt 10 N\, Grantham\, NH\, 03753\, United States
CATEGORIES:Drop-in,Free event,Monthly event
END:VEVENT
BEGIN:VEVENT
DTSTART;TZID=America/New_York:20250406T160000
DTEND;TZID=America/New_York:20250406T180000
DTSTAMP:20260425T105824
CREATED:20250320T155934Z
LAST-MODIFIED:20250320T160622Z
UID:497-1743955200-1743962400@craftandfound.com
SUMMARY:Main Character Candle Class
DESCRIPTION:Paid class\, registration required
URL:https://craftandfound.com/calendar/main-character-candle-class/
LOCATION:Craft and Found Exchange\, Rum Brook Place * 249 Rt 10 N\, Grantham\, NH\, 03753\, United States
CATEGORIES:Paid Class
ATTACH;FMTTYPE=image/jpeg:https://craftandfound.com/wp-content/uploads/2025/03/IMG_0562.jpeg
END:VEVENT
BEGIN:VEVENT
DTSTART;TZID=America/New_York:20250411T140000
DTEND;TZID=America/New_York:20250411T170000
DTSTAMP:20260425T105824
CREATED:20250320T182159Z
LAST-MODIFIED:20250320T182159Z
UID:510-1744380000-1744390800@craftandfound.com
SUMMARY:Free Community Event - Trivets and Cork Boards
DESCRIPTION:Stop by the workshop every Friday afternoon from 2pm-5pm in April to make a trivet or cork board! \nThis is a free drop-in community event. Come by to connect with other community members\, get crafty\, and repurpose some materials! \nAll materials will be out in the workshop. Bring nothing but yourself!
URL:https://craftandfound.com/calendar/free-community-event-trivets-and-cork-boards/
LOCATION:Craft and Found Exchange\, Rum Brook Place * 249 Rt 10 N\, Grantham\, NH\, 03753\, United States
CATEGORIES:Drop-in,Free event
ATTACH;FMTTYPE=image/jpeg:https://craftandfound.com/wp-content/uploads/2025/03/IMG_5495-scaled.jpeg
END:VEVENT
BEGIN:VEVENT
DTSTART;TZID=America/New_York:20250413T100000
DTEND;TZID=America/New_York:20250413T120000
DTSTAMP:20260425T105824
CREATED:20250320T160528Z
LAST-MODIFIED:20250320T160528Z
UID:501-1744538400-1744545600@craftandfound.com
SUMMARY:Learn to Knit Series
DESCRIPTION:Paid class\, registration required \nThis is a series of Learn to Knit classes held on April 13\, April 20\, and April 27.
URL:https://craftandfound.com/calendar/learn-to-knit-series/
LOCATION:Craft and Found Exchange\, Rum Brook Place * 249 Rt 10 N\, Grantham\, NH\, 03753\, United States
CATEGORIES:Paid Class
ATTACH;FMTTYPE=image/jpeg:https://craftandfound.com/wp-content/uploads/2025/03/IMG_0563-scaled.jpeg
END:VEVENT
BEGIN:VEVENT
DTSTART;TZID=America/New_York:20250414T110000
DTEND;TZID=America/New_York:20250414T140000
DTSTAMP:20260425T105824
CREATED:20250324T161524Z
LAST-MODIFIED:20250410T174702Z
UID:540-1744628400-1744639200@craftandfound.com
SUMMARY:Crafty Kids Drop-In: Weaving
DESCRIPTION:Free Family Drop-In Event \nSchools out… stop by! Bring the kiddos by for a free family event. \nCraft: Weaving for All Ages! \nCreate your own basic cardboard loom and start weaving a project! Different variations will be available by age group (Littles: simple round loom with chunky yarn\, Middles: basic loom with options for textures\, Bigs: intricate bracelet weaving using embroidery floss) \nThis is a drop-in event\, not a drop-off event. A trusted adult should plan to stay with any kids under age 16. Materials and instructions will be available but there will be limited supervision from shop staff.
URL:https://craftandfound.com/calendar/create-a-placemat-kids-class/
LOCATION:Craft and Found Exchange\, Rum Brook Place * 249 Rt 10 N\, Grantham\, NH\, 03753\, United States
CATEGORIES:Drop-in,Free event
ATTACH;FMTTYPE=image/jpeg:https://craftandfound.com/wp-content/uploads/2025/03/IMG_0573.jpeg
END:VEVENT
BEGIN:VEVENT
DTSTART;TZID=America/New_York:20250417T110000
DTEND;TZID=America/New_York:20250417T140000
DTSTAMP:20260425T105824
CREATED:20250403T143417Z
LAST-MODIFIED:20250410T174839Z
UID:548-1744887600-1744898400@craftandfound.com
SUMMARY:Crafty Kids Drop-In: Magic Wands
DESCRIPTION:Free Family Drop-In Event \nSchools out… stop by! Bring the kiddos by for a free family event. \nCraft: Magic Wands! \nUsing basic supplies and a lot of imagination\, we will be creating our very own custom magic wands. Choose your style\, color\, extras\, and more! \nThis is a drop-in event\, not a drop-off event. A trusted adult should plan to stay with any kids under age 16. Materials and instructions will be available but there will be limited supervision from shop staff.
URL:https://craftandfound.com/calendar/crafty-kids-drop-in-craft/
LOCATION:Craft and Found Exchange\, Rum Brook Place * 249 Rt 10 N\, Grantham\, NH\, 03753\, United States
CATEGORIES:Drop-in,Free event
ATTACH;FMTTYPE=image/webp:https://craftandfound.com/wp-content/uploads/2025/04/IMG_0571.webp
END:VEVENT
BEGIN:VEVENT
DTSTART;TZID=America/New_York:20250418T140000
DTEND;TZID=America/New_York:20250418T170000
DTSTAMP:20260425T105824
CREATED:20250320T182243Z
LAST-MODIFIED:20250320T182243Z
UID:512-1744984800-1744995600@craftandfound.com
SUMMARY:Free Community Event - Trivets and Cork Boards
DESCRIPTION:Stop by the workshop every Friday afternoon from 2pm-5pm in April to make a trivet or cork board! \nThis is a free drop-in community event. Come by to connect with other community members\, get crafty\, and repurpose some materials! \nAll materials will be out in the workshop. Bring nothing but yourself!
URL:https://craftandfound.com/calendar/free-community-event-trivets-and-cork-boards-2/
LOCATION:Craft and Found Exchange\, Rum Brook Place * 249 Rt 10 N\, Grantham\, NH\, 03753\, United States
CATEGORIES:Drop-in,Free event
ATTACH;FMTTYPE=image/jpeg:https://craftandfound.com/wp-content/uploads/2025/03/IMG_5495-scaled.jpeg
END:VEVENT
BEGIN:VEVENT
DTSTART;TZID=America/New_York:20250419T090000
DTEND;TZID=America/New_York:20250419T120000
DTSTAMP:20260425T105824
CREATED:20250324T153740Z
LAST-MODIFIED:20250324T153740Z
UID:536-1745053200-1745064000@craftandfound.com
SUMMARY:Basket Making Class
DESCRIPTION:Paid Class\, Registration Required \nHead here to register for this class!
URL:https://craftandfound.com/calendar/basket-making-class/
LOCATION:Craft and Found Exchange\, Rum Brook Place * 249 Rt 10 N\, Grantham\, NH\, 03753\, United States
CATEGORIES:Paid Class
ATTACH;FMTTYPE=image/jpeg:https://craftandfound.com/wp-content/uploads/2025/03/IMG_5439-scaled.jpeg
END:VEVENT
BEGIN:VEVENT
DTSTART;TZID=America/New_York:20250420T100000
DTEND;TZID=America/New_York:20250420T120000
DTSTAMP:20260425T105824
CREATED:20250320T160727Z
LAST-MODIFIED:20250320T160727Z
UID:503-1745143200-1745150400@craftandfound.com
SUMMARY:Learn to Knit Series
DESCRIPTION:Paid class\, registration required \nThis is a series of Learn to Knit classes held on April 13\, April 20\, and April 27.
URL:https://craftandfound.com/calendar/learn-to-knit-series-2/
LOCATION:Craft and Found Exchange\, Rum Brook Place * 249 Rt 10 N\, Grantham\, NH\, 03753\, United States
CATEGORIES:Paid Class
ATTACH;FMTTYPE=image/jpeg:https://craftandfound.com/wp-content/uploads/2025/03/IMG_0563-scaled.jpeg
END:VEVENT
BEGIN:VEVENT
DTSTART;TZID=America/New_York:20250425T140000
DTEND;TZID=America/New_York:20250425T170000
DTSTAMP:20260425T105824
CREATED:20250320T182326Z
LAST-MODIFIED:20250320T182326Z
UID:514-1745589600-1745600400@craftandfound.com
SUMMARY:Free Community Event - Trivets and Cork Boards
DESCRIPTION:Stop by the workshop every Friday afternoon from 2pm-5pm in April to make a trivet or cork board! \nThis is a free drop-in community event. Come by to connect with other community members\, get crafty\, and repurpose some materials! \nAll materials will be out in the workshop. Bring nothing but yourself!
URL:https://craftandfound.com/calendar/free-community-event-trivets-and-cork-boards-3/
LOCATION:Craft and Found Exchange\, Rum Brook Place * 249 Rt 10 N\, Grantham\, NH\, 03753\, United States
CATEGORIES:Drop-in,Free event
ATTACH;FMTTYPE=image/jpeg:https://craftandfound.com/wp-content/uploads/2025/03/IMG_5495-scaled.jpeg
END:VEVENT
BEGIN:VEVENT
DTSTART;TZID=America/New_York:20250426T100000
DTEND;TZID=America/New_York:20250426T123000
DTSTAMP:20260425T105824
CREATED:20250404T152522Z
LAST-MODIFIED:20250425T201242Z
UID:554-1745661600-1745670600@craftandfound.com
SUMMARY:Zentangle 101 Class - CANCELED
DESCRIPTION:This class has been canceled. Please check next month for our next Zentangle class!
URL:https://craftandfound.com/calendar/zentangle-101-class/
LOCATION:Craft and Found Exchange\, Rum Brook Place * 249 Rt 10 N\, Grantham\, NH\, 03753\, United States
CATEGORIES:Paid Class
ATTACH;FMTTYPE=image/jpeg:https://craftandfound.com/wp-content/uploads/2025/04/Poke-Berry-Garden-Sample-Tile-rotated.jpg
END:VEVENT
BEGIN:VEVENT
DTSTART;TZID=America/New_York:20250426T140000
DTEND;TZID=America/New_York:20250426T170000
DTSTAMP:20260425T105824
CREATED:20250120T190320Z
LAST-MODIFIED:20250120T190515Z
UID:401-1745676000-1745686800@craftandfound.com
SUMMARY:LEGO Swap
DESCRIPTION:Free drop in event \nEvery 4th Saturday of the month\, we host a free LEGO swap. Bring a set you no longer want\, trade it for a set you want. Any sets left at the end of the day will be held until next months swap. We will also have a “LEGO Bits Bin” to come find that one piece you need to complete your project. \nThe shop will be open for shopping for our normal Saturday hours during this event. \nCraft and Found does not manage or monitor the swaps or value of sets during this event. We are simply hosting the space. The intention of this event is to promote community\, sharing\, joy\, and to reduce waste. 
URL:https://craftandfound.com/calendar/lego-swap-4/
LOCATION:Craft and Found Exchange\, Rum Brook Place * 249 Rt 10 N\, Grantham\, NH\, 03753\, United States
CATEGORIES:Drop-in,Free event,Monthly event
END:VEVENT
BEGIN:VEVENT
DTSTART;TZID=America/New_York:20250427T100000
DTEND;TZID=America/New_York:20250427T120000
DTSTAMP:20260425T105824
CREATED:20250320T160807Z
LAST-MODIFIED:20250320T160807Z
UID:505-1745748000-1745755200@craftandfound.com
SUMMARY:Learn to Knit Series
DESCRIPTION:Paid class\, registration required \nThis is a series of Learn to Knit classes held on April 13\, April 20\, and April 27.
URL:https://craftandfound.com/calendar/learn-to-knit-series-3/
LOCATION:Craft and Found Exchange\, Rum Brook Place * 249 Rt 10 N\, Grantham\, NH\, 03753\, United States
CATEGORIES:Paid Class
ATTACH;FMTTYPE=image/jpeg:https://craftandfound.com/wp-content/uploads/2025/03/IMG_0563-scaled.jpeg
END:VEVENT
END:VCALENDAR