BEGIN:VCALENDAR
VERSION:2.0
PRODID:-//Craft and Found Exchange - ECPv6.15.20//NONSGML v1.0//EN
CALSCALE:GREGORIAN
METHOD:PUBLISH
X-WR-CALNAME:Craft and Found Exchange
X-ORIGINAL-URL:https://craftandfound.com
X-WR-CALDESC:Events for Craft and Found Exchange
REFRESH-INTERVAL;VALUE=DURATION:PT1H
X-Robots-Tag:noindex
X-PUBLISHED-TTL:PT1H
BEGIN:VTIMEZONE
TZID:America/New_York
BEGIN:DAYLIGHT
TZOFFSETFROM:-0500
TZOFFSETTO:-0400
TZNAME:EDT
DTSTART:20250309T070000
END:DAYLIGHT
BEGIN:STANDARD
TZOFFSETFROM:-0400
TZOFFSETTO:-0500
TZNAME:EST
DTSTART:20251102T060000
END:STANDARD
BEGIN:DAYLIGHT
TZOFFSETFROM:-0500
TZOFFSETTO:-0400
TZNAME:EDT
DTSTART:20260308T070000
END:DAYLIGHT
BEGIN:STANDARD
TZOFFSETFROM:-0400
TZOFFSETTO:-0500
TZNAME:EST
DTSTART:20261101T060000
END:STANDARD
BEGIN:DAYLIGHT
TZOFFSETFROM:-0500
TZOFFSETTO:-0400
TZNAME:EDT
DTSTART:20270314T070000
END:DAYLIGHT
BEGIN:STANDARD
TZOFFSETFROM:-0400
TZOFFSETTO:-0500
TZNAME:EST
DTSTART:20271107T060000
END:STANDARD
END:VTIMEZONE
BEGIN:VEVENT
DTSTART;TZID=America/New_York:20260110T103000
DTEND;TZID=America/New_York:20260110T123000
DTSTAMP:20260424T230552
CREATED:20260102T220657Z
LAST-MODIFIED:20260102T220657Z
UID:1079-1768041000-1768048200@craftandfound.com
SUMMARY:Punch Needle Mug Rug
DESCRIPTION:Paid Class\, Registration Required \nHead here to register for this class!
URL:https://craftandfound.com/calendar/punch-needle-mug-rug/
LOCATION:Craft and Found Exchange\, Rum Brook Place * 249 Rt 10 N\, Grantham\, NH\, 03753\, United States
CATEGORIES:Paid Class
END:VEVENT
BEGIN:VEVENT
DTSTART;TZID=America/New_York:20260112T100000
DTEND;TZID=America/New_York:20260112T120000
DTSTAMP:20260424T230552
CREATED:20260102T210104Z
LAST-MODIFIED:20260102T210104Z
UID:1058-1768212000-1768219200@craftandfound.com
SUMMARY:Drawing 101 / Studio Session with Brooke
DESCRIPTION:Paid Class\, Registration Required \nHead here to register for this class!
URL:https://craftandfound.com/calendar/drawing-101-studio-session-with-brooke/
LOCATION:Craft and Found Exchange\, Rum Brook Place * 249 Rt 10 N\, Grantham\, NH\, 03753\, United States
CATEGORIES:Paid Class
END:VEVENT
BEGIN:VEVENT
DTSTART;TZID=America/New_York:20260116T100000
DTEND;TZID=America/New_York:20260116T160000
DTSTAMP:20260424T230552
CREATED:20260102T225257Z
LAST-MODIFIED:20260116T114136Z
UID:1113-1768557600-1768579200@craftandfound.com
SUMMARY:Closing Early: hours 10am - 4pm
DESCRIPTION:We will be closing early today so we can go get our craft on! We will be checking out a pottery wheel class at CraftStudies in White River Junction to see how our crafty friends across the river throw down at the wheel!
URL:https://craftandfound.com/calendar/closing-early-hours-10am-3pm/
LOCATION:Craft and Found Exchange\, Rum Brook Place * 249 Rt 10 N\, Grantham\, NH\, 03753\, United States
END:VEVENT
BEGIN:VEVENT
DTSTART;TZID=America/New_York:20260117T103000
DTEND;TZID=America/New_York:20260117T120000
DTSTAMP:20260424T230552
CREATED:20260102T220744Z
LAST-MODIFIED:20260102T220744Z
UID:1081-1768645800-1768651200@craftandfound.com
SUMMARY:Needle Felted Mending
DESCRIPTION:Paid Class\, Registration Required \nHead here to register for this class!
URL:https://craftandfound.com/calendar/needle-felted-mending/
LOCATION:Craft and Found Exchange\, Rum Brook Place * 249 Rt 10 N\, Grantham\, NH\, 03753\, United States
CATEGORIES:Paid Class
END:VEVENT
BEGIN:VEVENT
DTSTART;TZID=America/New_York:20260119T100000
DTEND;TZID=America/New_York:20260119T120000
DTSTAMP:20260424T230552
CREATED:20260102T210152Z
LAST-MODIFIED:20260102T210152Z
UID:1060-1768816800-1768824000@craftandfound.com
SUMMARY:Drawing 102 / Studio Session with Brooke
DESCRIPTION:Paid Class\, Registration Required \nHead here to register for this class!
URL:https://craftandfound.com/calendar/drawing-102-studio-session-with-brooke/
LOCATION:Craft and Found Exchange\, Rum Brook Place * 249 Rt 10 N\, Grantham\, NH\, 03753\, United States
CATEGORIES:Paid Class
END:VEVENT
BEGIN:VEVENT
DTSTART;TZID=America/New_York:20260120T110000
DTEND;TZID=America/New_York:20260120T120000
DTSTAMP:20260424T230552
CREATED:20260102T220839Z
LAST-MODIFIED:20260102T220839Z
UID:1083-1768906800-1768910400@craftandfound.com
SUMMARY:No-Sew Pillow Class
DESCRIPTION:Paid Class\, Registration Required \nHead here to register for this class!
URL:https://craftandfound.com/calendar/no-sew-pillow-class-3/
LOCATION:Craft and Found Exchange\, Rum Brook Place * 249 Rt 10 N\, Grantham\, NH\, 03753\, United States
CATEGORIES:Paid Class
END:VEVENT
BEGIN:VEVENT
DTSTART;TZID=America/New_York:20260124T103000
DTEND;TZID=America/New_York:20260124T123000
DTSTAMP:20260424T230552
CREATED:20260102T221359Z
LAST-MODIFIED:20260102T224038Z
UID:1087-1769250600-1769257800@craftandfound.com
SUMMARY:Card Making Basics - Valentines
DESCRIPTION:Paid Class\, Registration Required \nHead here to register for this class!
URL:https://craftandfound.com/calendar/card-making-basics-valentines/
LOCATION:Craft and Found Exchange\, Rum Brook Place * 249 Rt 10 N\, Grantham\, NH\, 03753\, United States
CATEGORIES:Paid Class
END:VEVENT
BEGIN:VEVENT
DTSTART;TZID=America/New_York:20260126T100000
DTEND;TZID=America/New_York:20260126T140000
DTSTAMP:20260424T230552
CREATED:20260126T121902Z
LAST-MODIFIED:20260126T121902Z
UID:1140-1769421600-1769436000@craftandfound.com
SUMMARY:Snow Day! Closed
DESCRIPTION:We will be closed today. Stay home and stay safe!
URL:https://craftandfound.com/calendar/snow-day-closed/
LOCATION:Craft and Found Exchange\, Rum Brook Place * 249 Rt 10 N\, Grantham\, NH\, 03753\, United States
END:VEVENT
BEGIN:VEVENT
DTSTART;TZID=America/New_York:20260131T100000
DTEND;TZID=America/New_York:20260131T130000
DTSTAMP:20260424T230552
CREATED:20260102T224210Z
LAST-MODIFIED:20260102T224210Z
UID:1105-1769853600-1769864400@craftandfound.com
SUMMARY:Zentangle 101
DESCRIPTION:Paid Class\, Registration Required \nHead here to register for this class!
URL:https://craftandfound.com/calendar/zentangle-101/
LOCATION:Craft and Found Exchange\, Rum Brook Place * 249 Rt 10 N\, Grantham\, NH\, 03753\, United States
CATEGORIES:Monthly event,Paid Class
END:VEVENT
END:VCALENDAR