BEGIN:VCALENDAR
VERSION:2.0
PRODID:-//Craft and Found Exchange - ECPv6.15.20//NONSGML v1.0//EN
CALSCALE:GREGORIAN
METHOD:PUBLISH
X-WR-CALNAME:Craft and Found Exchange
X-ORIGINAL-URL:https://craftandfound.com
X-WR-CALDESC:Events for Craft and Found Exchange
REFRESH-INTERVAL;VALUE=DURATION:PT1H
X-Robots-Tag:noindex
X-PUBLISHED-TTL:PT1H
BEGIN:VTIMEZONE
TZID:America/New_York
BEGIN:DAYLIGHT
TZOFFSETFROM:-0500
TZOFFSETTO:-0400
TZNAME:EDT
DTSTART:20250309T070000
END:DAYLIGHT
BEGIN:STANDARD
TZOFFSETFROM:-0400
TZOFFSETTO:-0500
TZNAME:EST
DTSTART:20251102T060000
END:STANDARD
BEGIN:DAYLIGHT
TZOFFSETFROM:-0500
TZOFFSETTO:-0400
TZNAME:EDT
DTSTART:20260308T070000
END:DAYLIGHT
BEGIN:STANDARD
TZOFFSETFROM:-0400
TZOFFSETTO:-0500
TZNAME:EST
DTSTART:20261101T060000
END:STANDARD
BEGIN:DAYLIGHT
TZOFFSETFROM:-0500
TZOFFSETTO:-0400
TZNAME:EDT
DTSTART:20270314T070000
END:DAYLIGHT
BEGIN:STANDARD
TZOFFSETFROM:-0400
TZOFFSETTO:-0500
TZNAME:EST
DTSTART:20271107T060000
END:STANDARD
END:VTIMEZONE
BEGIN:VEVENT
DTSTART;TZID=America/New_York:20260502T103000
DTEND;TZID=America/New_York:20260502T123000
DTSTAMP:20260423T115041
CREATED:20260416T150347Z
LAST-MODIFIED:20260416T155744Z
UID:1293-1777717800-1777725000@craftandfound.com
SUMMARY:DI Fundraiser: Kinusaiga Decorative Ball Class
DESCRIPTION:Paid Class\, Registration Required \nHead here for more information and to register for this class! \nThis class is a fundraiser for the GVS Destination Imagination team The Dizzy Iguanas to help send them to Global Finals!
URL:https://craftandfound.com/calendar/di-fundraiser-kinusaiga-decorative-ball-class/
LOCATION:Craft and Found Exchange\, Rum Brook Place * 249 Rt 10 N\, Grantham\, NH\, 03753\, United States
CATEGORIES:Paid Class
END:VEVENT
BEGIN:VEVENT
DTSTART;TZID=America/New_York:20260503T140000
DTEND;TZID=America/New_York:20260503T160000
DTSTAMP:20260423T115041
CREATED:20260416T150554Z
LAST-MODIFIED:20260416T153316Z
UID:1295-1777816800-1777824000@craftandfound.com
SUMMARY:DI Fundraiser: Kinusaiga Decorative Ball class
DESCRIPTION:Paid Class\, Registration Required \nHead here for more information and to register for this class! \nThis class is fundraiser for the GVS Destination Imagination team The Dizzy Iguanas to help send them to Global Finals!
URL:https://craftandfound.com/calendar/di-fundraiser-kinusaiga-decorative-ball-class-2/
LOCATION:Craft and Found Exchange\, Rum Brook Place * 249 Rt 10 N\, Grantham\, NH\, 03753\, United States
CATEGORIES:Paid Class
END:VEVENT
BEGIN:VEVENT
DTSTART;TZID=America/New_York:20260509T133000
DTEND;TZID=America/New_York:20260509T153000
DTSTAMP:20260423T115041
CREATED:20260416T160251Z
LAST-MODIFIED:20260416T160251Z
UID:1303-1778333400-1778340600@craftandfound.com
SUMMARY:Private Event: Birthday Party
DESCRIPTION:We will be hosting a birthday party in the workshop! The store will still be open our normal hours.
URL:https://craftandfound.com/calendar/private-event-birthday-party/
LOCATION:Craft and Found Exchange\, Rum Brook Place * 249 Rt 10 N\, Grantham\, NH\, 03753\, United States
CATEGORIES:Private Event
END:VEVENT
BEGIN:VEVENT
DTSTART;TZID=America/New_York:20260516T103000
DTEND;TZID=America/New_York:20260516T120000
DTSTAMP:20260423T115041
CREATED:20260409T160216Z
LAST-MODIFIED:20260409T160216Z
UID:1280-1778927400-1778932800@craftandfound.com
SUMMARY:Felted Soap Class
DESCRIPTION:Paid Class\, Registration Required \nHead here for more information and to register for this class!
URL:https://craftandfound.com/calendar/felted-soap-class-3/
LOCATION:Craft and Found Exchange\, Rum Brook Place * 249 Rt 10 N\, Grantham\, NH\, 03753\, United States
END:VEVENT
BEGIN:VEVENT
DTSTART;TZID=America/New_York:20260517T150000
DTEND;TZID=America/New_York:20260517T173000
DTSTAMP:20260423T115041
CREATED:20260409T154832Z
LAST-MODIFIED:20260409T154832Z
UID:1275-1779030000-1779039000@craftandfound.com
SUMMARY:Kinusaiga Class
DESCRIPTION:Paid Class\, Registration Required \nHead here for more information and to register for this class!
URL:https://craftandfound.com/calendar/kinusaiga-class-4/
LOCATION:Craft and Found Exchange\, Rum Brook Place * 249 Rt 10 N\, Grantham\, NH\, 03753\, United States
CATEGORIES:Paid Class
END:VEVENT
BEGIN:VEVENT
DTSTART;TZID=America/New_York:20260530T100000
DTEND;TZID=America/New_York:20260530T180000
DTSTAMP:20260423T115041
CREATED:20260314T220157Z
LAST-MODIFIED:20260409T161037Z
UID:1236-1780135200-1780164000@craftandfound.com
SUMMARY:CLOSED for Eastman Arts and Crafts Fair
DESCRIPTION:We will be CLOSED today. Come find us\, and other local artists and crafters\, at the Eastman Arts and Crafts Fair held at the South Cove Activity Center in Eastman!
URL:https://craftandfound.com/calendar/closed-for-eastman-arts-and-crafts-fair/
LOCATION:Craft and Found Exchange\, Rum Brook Place * 249 Rt 10 N\, Grantham\, NH\, 03753\, United States
END:VEVENT
END:VCALENDAR